BEGIN:VCALENDAR
VERSION:2.0
PRODID:-//assembleyourselves.org - ECPv6.15.20//NONSGML v1.0//EN
CALSCALE:GREGORIAN
METHOD:PUBLISH
X-WR-CALNAME:assembleyourselves.org
X-ORIGINAL-URL:https://assembleyourselves.org
X-WR-CALDESC:Events for assembleyourselves.org
REFRESH-INTERVAL;VALUE=DURATION:PT1H
X-Robots-Tag:noindex
X-PUBLISHED-TTL:PT1H
BEGIN:VTIMEZONE
TZID:America/Chicago
BEGIN:DAYLIGHT
TZOFFSETFROM:-0600
TZOFFSETTO:-0500
TZNAME:CDT
DTSTART:20220313T080000
END:DAYLIGHT
BEGIN:STANDARD
TZOFFSETFROM:-0500
TZOFFSETTO:-0600
TZNAME:CST
DTSTART:20221106T070000
END:STANDARD
BEGIN:DAYLIGHT
TZOFFSETFROM:-0600
TZOFFSETTO:-0500
TZNAME:CDT
DTSTART:20230312T080000
END:DAYLIGHT
BEGIN:STANDARD
TZOFFSETFROM:-0500
TZOFFSETTO:-0600
TZNAME:CST
DTSTART:20231105T070000
END:STANDARD
BEGIN:DAYLIGHT
TZOFFSETFROM:-0600
TZOFFSETTO:-0500
TZNAME:CDT
DTSTART:20240310T080000
END:DAYLIGHT
BEGIN:STANDARD
TZOFFSETFROM:-0500
TZOFFSETTO:-0600
TZNAME:CST
DTSTART:20241103T070000
END:STANDARD
END:VTIMEZONE
BEGIN:VEVENT
DTSTART;TZID=America/Chicago:20231001T094500
DTEND;TZID=America/Chicago:20231001T120000
DTSTAMP:20260425T124108
CREATED:20221219T053614Z
LAST-MODIFIED:20221219T053614Z
UID:384-1696153500-1696161600@assembleyourselves.org
SUMMARY:Sunday Morning Service 100123
DESCRIPTION:Join us as we fellowship together on Sunday morning at 9:45am with refreshments immediately afterwards.
URL:https://assembleyourselves.org/event/sunday-morning-service-100123/
LOCATION:Main Sanctuary\, 1706 N Jennings Rd\, Independence\, MO\, 64058\, United States
CATEGORIES:Sunday Morning Service
END:VEVENT
BEGIN:VEVENT
DTSTART;TZID=America/Chicago:20231004T100000
DTEND;TZID=America/Chicago:20231004T110000
DTSTAMP:20260425T124108
CREATED:20221219T062430Z
LAST-MODIFIED:20221219T062430Z
UID:488-1696413600-1696417200@assembleyourselves.org
SUMMARY:Wednesday Morning Prayer 100423
DESCRIPTION:Join us as we pray together on Wednesday morning at 10am.
URL:https://assembleyourselves.org/event/wednesday-morning-prayer-100423/
LOCATION:Fellowship Hall\, 1706 N Jennings Rd\, Independence\, MO\, 64058\, United States
CATEGORIES:Wednesday Morning Prayer
END:VEVENT
BEGIN:VEVENT
DTSTART;TZID=America/Chicago:20231004T183000
DTEND;TZID=America/Chicago:20231004T200000
DTSTAMP:20260425T124108
CREATED:20221219T071831Z
LAST-MODIFIED:20221219T071831Z
UID:600-1696444200-1696449600@assembleyourselves.org
SUMMARY:Wednesday Night Bible Study 100423
DESCRIPTION:Join us as we study God’s Word together on Wednesday evening at 6:30pm.
URL:https://assembleyourselves.org/event/wednesday-night-bible-study-100423/
LOCATION:Fellowship Hall\, 1706 N Jennings Rd\, Independence\, MO\, 64058\, United States
CATEGORIES:Wednesday Night Bible Study
END:VEVENT
BEGIN:VEVENT
DTSTART;TZID=America/Chicago:20231008T094500
DTEND;TZID=America/Chicago:20231008T120000
DTSTAMP:20260425T124108
CREATED:20221219T053658Z
LAST-MODIFIED:20221219T053658Z
UID:386-1696758300-1696766400@assembleyourselves.org
SUMMARY:Sunday Morning Service 100823
DESCRIPTION:Join us as we fellowship together on Sunday morning at 9:45am with refreshments immediately afterwards.
URL:https://assembleyourselves.org/event/sunday-morning-service-100823/
LOCATION:Main Sanctuary\, 1706 N Jennings Rd\, Independence\, MO\, 64058\, United States
CATEGORIES:Sunday Morning Service
END:VEVENT
BEGIN:VEVENT
DTSTART;TZID=America/Chicago:20231011T100000
DTEND;TZID=America/Chicago:20231011T110000
DTSTAMP:20260425T124109
CREATED:20221219T062507Z
LAST-MODIFIED:20221219T062507Z
UID:490-1697018400-1697022000@assembleyourselves.org
SUMMARY:Wednesday Morning Prayer 101123
DESCRIPTION:Join us as we pray together on Wednesday morning at 10am.
URL:https://assembleyourselves.org/event/wednesday-morning-prayer-101123/
LOCATION:Fellowship Hall\, 1706 N Jennings Rd\, Independence\, MO\, 64058\, United States
CATEGORIES:Wednesday Morning Prayer
END:VEVENT
BEGIN:VEVENT
DTSTART;TZID=America/Chicago:20231011T183000
DTEND;TZID=America/Chicago:20231011T200000
DTSTAMP:20260425T124109
CREATED:20221219T071913Z
LAST-MODIFIED:20221219T071913Z
UID:602-1697049000-1697054400@assembleyourselves.org
SUMMARY:Wednesday Night Bible Study 101123
DESCRIPTION:Join us as we study God’s Word together on Wednesday evening at 6:30pm.
URL:https://assembleyourselves.org/event/wednesday-night-bible-study-101123/
LOCATION:Fellowship Hall\, 1706 N Jennings Rd\, Independence\, MO\, 64058\, United States
CATEGORIES:Wednesday Night Bible Study
END:VEVENT
BEGIN:VEVENT
DTSTART;TZID=America/Chicago:20231015T094500
DTEND;TZID=America/Chicago:20231015T120000
DTSTAMP:20260425T124109
CREATED:20221219T053744Z
LAST-MODIFIED:20221219T053744Z
UID:388-1697363100-1697371200@assembleyourselves.org
SUMMARY:Sunday Morning Service 101523
DESCRIPTION:Join us as we fellowship together on Sunday morning at 9:45am with refreshments immediately afterwards.
URL:https://assembleyourselves.org/event/sunday-morning-service-101523/
LOCATION:Main Sanctuary\, 1706 N Jennings Rd\, Independence\, MO\, 64058\, United States
CATEGORIES:Sunday Morning Service
END:VEVENT
BEGIN:VEVENT
DTSTART;TZID=America/Chicago:20231018T100000
DTEND;TZID=America/Chicago:20231018T110000
DTSTAMP:20260425T124109
CREATED:20221219T062543Z
LAST-MODIFIED:20221219T062543Z
UID:492-1697623200-1697626800@assembleyourselves.org
SUMMARY:Wednesday Morning Prayer 101823
DESCRIPTION:Join us as we pray together on Wednesday morning at 10am.
URL:https://assembleyourselves.org/event/wednesday-morning-prayer-101823/
LOCATION:Fellowship Hall\, 1706 N Jennings Rd\, Independence\, MO\, 64058\, United States
CATEGORIES:Wednesday Morning Prayer
END:VEVENT
BEGIN:VEVENT
DTSTART;TZID=America/Chicago:20231018T183000
DTEND;TZID=America/Chicago:20231018T200000
DTSTAMP:20260425T124109
CREATED:20221219T071951Z
LAST-MODIFIED:20221219T071951Z
UID:604-1697653800-1697659200@assembleyourselves.org
SUMMARY:Wednesday Night Bible Study 101823
DESCRIPTION:Join us as we study God’s Word together on Wednesday evening at 6:30pm.
URL:https://assembleyourselves.org/event/wednesday-night-bible-study-101823/
LOCATION:Fellowship Hall\, 1706 N Jennings Rd\, Independence\, MO\, 64058\, United States
CATEGORIES:Wednesday Night Bible Study
END:VEVENT
BEGIN:VEVENT
DTSTART;TZID=America/Chicago:20231022T094500
DTEND;TZID=America/Chicago:20231022T120000
DTSTAMP:20260425T124109
CREATED:20221219T053826Z
LAST-MODIFIED:20221219T053826Z
UID:390-1697967900-1697976000@assembleyourselves.org
SUMMARY:Sunday Morning Service 102223
DESCRIPTION:Join us as we fellowship together on Sunday morning at 9:45am with refreshments immediately afterwards.
URL:https://assembleyourselves.org/event/sunday-morning-service-102223/
LOCATION:Main Sanctuary\, 1706 N Jennings Rd\, Independence\, MO\, 64058\, United States
CATEGORIES:Sunday Morning Service
END:VEVENT
BEGIN:VEVENT
DTSTART;TZID=America/Chicago:20231025T100000
DTEND;TZID=America/Chicago:20231025T110000
DTSTAMP:20260425T124109
CREATED:20221219T062701Z
LAST-MODIFIED:20221219T062701Z
UID:494-1698228000-1698231600@assembleyourselves.org
SUMMARY:Wednesday Morning Prayer 102523
DESCRIPTION:Join us as we pray together on Wednesday morning at 10am.
URL:https://assembleyourselves.org/event/wednesday-morning-prayer-102523/
LOCATION:Fellowship Hall\, 1706 N Jennings Rd\, Independence\, MO\, 64058\, United States
CATEGORIES:Wednesday Morning Prayer
END:VEVENT
BEGIN:VEVENT
DTSTART;TZID=America/Chicago:20231025T183000
DTEND;TZID=America/Chicago:20231025T200000
DTSTAMP:20260425T124109
CREATED:20221219T072035Z
LAST-MODIFIED:20221219T072035Z
UID:606-1698258600-1698264000@assembleyourselves.org
SUMMARY:Wednesday Night Bible Study 102523
DESCRIPTION:Join us as we study God’s Word together on Wednesday evening at 6:30pm.
URL:https://assembleyourselves.org/event/wednesday-night-bible-study-102523/
LOCATION:Fellowship Hall\, 1706 N Jennings Rd\, Independence\, MO\, 64058\, United States
CATEGORIES:Wednesday Night Bible Study
END:VEVENT
BEGIN:VEVENT
DTSTART;TZID=America/Chicago:20231029T094500
DTEND;TZID=America/Chicago:20231029T120000
DTSTAMP:20260425T124109
CREATED:20221219T054036Z
LAST-MODIFIED:20221219T054036Z
UID:392-1698572700-1698580800@assembleyourselves.org
SUMMARY:Sunday Morning Service 102923
DESCRIPTION:Join us as we fellowship together on Sunday morning at 9:45am with refreshments immediately afterwards.
URL:https://assembleyourselves.org/event/sunday-morning-service-102923/
LOCATION:Main Sanctuary\, 1706 N Jennings Rd\, Independence\, MO\, 64058\, United States
CATEGORIES:Sunday Morning Service
END:VEVENT
END:VCALENDAR