BEGIN:VCALENDAR
VERSION:2.0
PRODID:-//assembleyourselves.org - ECPv6.15.20//NONSGML v1.0//EN
CALSCALE:GREGORIAN
METHOD:PUBLISH
X-WR-CALNAME:assembleyourselves.org
X-ORIGINAL-URL:https://assembleyourselves.org
X-WR-CALDESC:Events for assembleyourselves.org
REFRESH-INTERVAL;VALUE=DURATION:PT1H
X-Robots-Tag:noindex
X-PUBLISHED-TTL:PT1H
BEGIN:VTIMEZONE
TZID:America/Chicago
BEGIN:DAYLIGHT
TZOFFSETFROM:-0600
TZOFFSETTO:-0500
TZNAME:CDT
DTSTART:20220313T080000
END:DAYLIGHT
BEGIN:STANDARD
TZOFFSETFROM:-0500
TZOFFSETTO:-0600
TZNAME:CST
DTSTART:20221106T070000
END:STANDARD
BEGIN:DAYLIGHT
TZOFFSETFROM:-0600
TZOFFSETTO:-0500
TZNAME:CDT
DTSTART:20230312T080000
END:DAYLIGHT
BEGIN:STANDARD
TZOFFSETFROM:-0500
TZOFFSETTO:-0600
TZNAME:CST
DTSTART:20231105T070000
END:STANDARD
BEGIN:DAYLIGHT
TZOFFSETFROM:-0600
TZOFFSETTO:-0500
TZNAME:CDT
DTSTART:20240310T080000
END:DAYLIGHT
BEGIN:STANDARD
TZOFFSETFROM:-0500
TZOFFSETTO:-0600
TZNAME:CST
DTSTART:20241103T070000
END:STANDARD
END:VTIMEZONE
BEGIN:VEVENT
DTSTART;TZID=America/Chicago:20230524T183000
DTEND;TZID=America/Chicago:20230524T200000
DTSTAMP:20260424T091904
CREATED:20221219T070058Z
LAST-MODIFIED:20221219T070058Z
UID:562-1684953000-1684958400@assembleyourselves.org
SUMMARY:Wednesday Night Bible Study 052423
DESCRIPTION:Join us as we study God’s Word together on Wednesday evening at 6:30pm.
URL:https://assembleyourselves.org/event/wednesday-night-bible-study-052423/
LOCATION:Fellowship Hall\, 1706 N Jennings Rd\, Independence\, MO\, 64058\, United States
CATEGORIES:Wednesday Night Bible Study
END:VEVENT
BEGIN:VEVENT
DTSTART;TZID=America/Chicago:20230524T100000
DTEND;TZID=America/Chicago:20230524T110000
DTSTAMP:20260424T091904
CREATED:20221219T060730Z
LAST-MODIFIED:20221219T060730Z
UID:450-1684922400-1684926000@assembleyourselves.org
SUMMARY:Wednesday Morning Prayer 052423
DESCRIPTION:Join us as we pray together on Wednesday morning at 10am.
URL:https://assembleyourselves.org/event/wednesday-morning-prayer-052423/
LOCATION:Fellowship Hall\, 1706 N Jennings Rd\, Independence\, MO\, 64058\, United States
CATEGORIES:Wednesday Morning Prayer
END:VEVENT
BEGIN:VEVENT
DTSTART;TZID=America/Chicago:20230521T094500
DTEND;TZID=America/Chicago:20230521T120000
DTSTAMP:20260424T091904
CREATED:20221219T051846Z
LAST-MODIFIED:20221219T051846Z
UID:344-1684662300-1684670400@assembleyourselves.org
SUMMARY:Sunday Morning Service 052123
DESCRIPTION:Join us as we fellowship together on Sunday morning at 9:45am with refreshments immediately afterwards.
URL:https://assembleyourselves.org/event/sunday-morning-service-052123/
LOCATION:Main Sanctuary\, 1706 N Jennings Rd\, Independence\, MO\, 64058\, United States
CATEGORIES:Sunday Morning Service
END:VEVENT
BEGIN:VEVENT
DTSTART;TZID=America/Chicago:20230517T183000
DTEND;TZID=America/Chicago:20230517T200000
DTSTAMP:20260424T091904
CREATED:20221219T065554Z
LAST-MODIFIED:20221219T065554Z
UID:557-1684348200-1684353600@assembleyourselves.org
SUMMARY:Wednesday Night Bible Study 051723
DESCRIPTION:Join us as we study God’s Word together on Wednesday evening at 6:30pm.
URL:https://assembleyourselves.org/event/wednesday-night-bible-study-051723/
LOCATION:Fellowship Hall\, 1706 N Jennings Rd\, Independence\, MO\, 64058\, United States
CATEGORIES:Wednesday Night Bible Study
END:VEVENT
BEGIN:VEVENT
DTSTART;TZID=America/Chicago:20230517T100000
DTEND;TZID=America/Chicago:20230517T110000
DTSTAMP:20260424T091904
CREATED:20221219T060655Z
LAST-MODIFIED:20221219T060655Z
UID:448-1684317600-1684321200@assembleyourselves.org
SUMMARY:Wednesday Morning Prayer 051723
DESCRIPTION:Join us as we pray together on Wednesday morning at 10am.
URL:https://assembleyourselves.org/event/wednesday-morning-prayer-051723/
LOCATION:Fellowship Hall\, 1706 N Jennings Rd\, Independence\, MO\, 64058\, United States
CATEGORIES:Wednesday Morning Prayer
END:VEVENT
BEGIN:VEVENT
DTSTART;TZID=America/Chicago:20230514T094500
DTEND;TZID=America/Chicago:20230514T120000
DTSTAMP:20260424T091904
CREATED:20221219T051749Z
LAST-MODIFIED:20221219T051749Z
UID:342-1684057500-1684065600@assembleyourselves.org
SUMMARY:Sunday Morning Service 051423
DESCRIPTION:Join us as we fellowship together on Sunday morning at 9:45am with refreshments immediately afterwards.
URL:https://assembleyourselves.org/event/sunday-morning-service-051423/
LOCATION:Main Sanctuary\, 1706 N Jennings Rd\, Independence\, MO\, 64058\, United States
CATEGORIES:Sunday Morning Service
END:VEVENT
BEGIN:VEVENT
DTSTART;TZID=America/Chicago:20230510T183000
DTEND;TZID=America/Chicago:20230510T200000
DTSTAMP:20260424T091904
CREATED:20221219T065507Z
LAST-MODIFIED:20221219T065507Z
UID:555-1683743400-1683748800@assembleyourselves.org
SUMMARY:Wednesday Night Bible Study 051023
DESCRIPTION:Join us as we study God’s Word together on Wednesday evening at 6:30pm.
URL:https://assembleyourselves.org/event/wednesday-night-bible-study-051023/
LOCATION:Fellowship Hall\, 1706 N Jennings Rd\, Independence\, MO\, 64058\, United States
CATEGORIES:Wednesday Night Bible Study
END:VEVENT
BEGIN:VEVENT
DTSTART;TZID=America/Chicago:20230510T100000
DTEND;TZID=America/Chicago:20230510T110000
DTSTAMP:20260424T091904
CREATED:20221219T060620Z
LAST-MODIFIED:20221219T060620Z
UID:446-1683712800-1683716400@assembleyourselves.org
SUMMARY:Wednesday Morning Prayer 051023
DESCRIPTION:Join us as we pray together on Wednesday morning at 10am.
URL:https://assembleyourselves.org/event/wednesday-morning-prayer-051023/
LOCATION:Fellowship Hall\, 1706 N Jennings Rd\, Independence\, MO\, 64058\, United States
CATEGORIES:Wednesday Morning Prayer
END:VEVENT
BEGIN:VEVENT
DTSTART;TZID=America/Chicago:20230507T094500
DTEND;TZID=America/Chicago:20230507T120000
DTSTAMP:20260424T091904
CREATED:20221219T051642Z
LAST-MODIFIED:20221219T051642Z
UID:340-1683452700-1683460800@assembleyourselves.org
SUMMARY:Sunday Morning Service 050723
DESCRIPTION:Join us as we fellowship together on Sunday morning at 9:45am with refreshments immediately afterwards.
URL:https://assembleyourselves.org/event/sunday-morning-service-050723/
LOCATION:Main Sanctuary\, 1706 N Jennings Rd\, Independence\, MO\, 64058\, United States
CATEGORIES:Sunday Morning Service
END:VEVENT
BEGIN:VEVENT
DTSTART;TZID=America/Chicago:20230503T183000
DTEND;TZID=America/Chicago:20230503T200000
DTSTAMP:20260424T091904
CREATED:20221219T065422Z
LAST-MODIFIED:20221219T065422Z
UID:553-1683138600-1683144000@assembleyourselves.org
SUMMARY:Wednesday Night Bible Study 050323
DESCRIPTION:Join us as we study God’s Word together on Wednesday evening at 6:30pm.
URL:https://assembleyourselves.org/event/wednesday-night-bible-study-050323/
LOCATION:Fellowship Hall\, 1706 N Jennings Rd\, Independence\, MO\, 64058\, United States
CATEGORIES:Wednesday Night Bible Study
END:VEVENT
BEGIN:VEVENT
DTSTART;TZID=America/Chicago:20230503T100000
DTEND;TZID=America/Chicago:20230503T110000
DTSTAMP:20260424T091904
CREATED:20221219T060538Z
LAST-MODIFIED:20221219T060538Z
UID:444-1683108000-1683111600@assembleyourselves.org
SUMMARY:Wednesday Morning Prayer 050323
DESCRIPTION:Join us as we pray together on Wednesday morning at 10am.
URL:https://assembleyourselves.org/event/wednesday-morning-prayer-050323/
LOCATION:Fellowship Hall\, 1706 N Jennings Rd\, Independence\, MO\, 64058\, United States
CATEGORIES:Wednesday Morning Prayer
END:VEVENT
BEGIN:VEVENT
DTSTART;TZID=America/Chicago:20230430T094500
DTEND;TZID=America/Chicago:20230430T120000
DTSTAMP:20260424T091904
CREATED:20221219T051540Z
LAST-MODIFIED:20221219T051540Z
UID:338-1682847900-1682856000@assembleyourselves.org
SUMMARY:Sunday Morning Service 043023
DESCRIPTION:Join us as we fellowship together on Sunday morning at 9:45am with refreshments immediately afterwards.
URL:https://assembleyourselves.org/event/sunday-morning-service-043023/
LOCATION:Main Sanctuary\, 1706 N Jennings Rd\, Independence\, MO\, 64058\, United States
CATEGORIES:Sunday Morning Service
END:VEVENT
BEGIN:VEVENT
DTSTART;TZID=America/Chicago:20230426T183000
DTEND;TZID=America/Chicago:20230426T200000
DTSTAMP:20260424T091904
CREATED:20221219T065328Z
LAST-MODIFIED:20221219T065328Z
UID:551-1682533800-1682539200@assembleyourselves.org
SUMMARY:Wednesday Night Bible Study 042623
DESCRIPTION:Join us as we study God’s Word together on Wednesday evening at 6:30pm.
URL:https://assembleyourselves.org/event/wednesday-night-bible-study-042623/
LOCATION:Fellowship Hall\, 1706 N Jennings Rd\, Independence\, MO\, 64058\, United States
CATEGORIES:Wednesday Night Bible Study
END:VEVENT
BEGIN:VEVENT
DTSTART;TZID=America/Chicago:20230426T100000
DTEND;TZID=America/Chicago:20230426T110000
DTSTAMP:20260424T091904
CREATED:20221219T060453Z
LAST-MODIFIED:20221219T060453Z
UID:442-1682503200-1682506800@assembleyourselves.org
SUMMARY:Wednesday Morning Prayer 042623
DESCRIPTION:Join us as we pray together on Wednesday morning at 10am.
URL:https://assembleyourselves.org/event/wednesday-morning-prayer-042623/
LOCATION:Fellowship Hall\, 1706 N Jennings Rd\, Independence\, MO\, 64058\, United States
CATEGORIES:Wednesday Morning Prayer
END:VEVENT
BEGIN:VEVENT
DTSTART;TZID=America/Chicago:20230423T120000
DTEND;TZID=America/Chicago:20230423T123000
DTSTAMP:20260424T091904
CREATED:20230403T032118Z
LAST-MODIFIED:20230403T032337Z
UID:679-1682251200-1682253000@assembleyourselves.org
SUMMARY:Baptism 042323
DESCRIPTION:
URL:https://assembleyourselves.org/event/baptism-4_23_23/
LOCATION:Big Sanctuary\, 1706 N Jennings Rd\, Independence\, MO\, 64058\, United States
CATEGORIES:Special Event
END:VEVENT
BEGIN:VEVENT
DTSTART;TZID=America/Chicago:20230423T094500
DTEND;TZID=America/Chicago:20230423T120000
DTSTAMP:20260424T091904
CREATED:20221219T051446Z
LAST-MODIFIED:20221219T051446Z
UID:336-1682243100-1682251200@assembleyourselves.org
SUMMARY:Sunday Morning Service 042323
DESCRIPTION:Join us as we fellowship together on Sunday morning at 9:45am with refreshments immediately afterwards.
URL:https://assembleyourselves.org/event/sunday-morning-service-042323/
LOCATION:Main Sanctuary\, 1706 N Jennings Rd\, Independence\, MO\, 64058\, United States
CATEGORIES:Sunday Morning Service
END:VEVENT
BEGIN:VEVENT
DTSTART;TZID=America/Chicago:20230419T183000
DTEND;TZID=America/Chicago:20230419T200000
DTSTAMP:20260424T091904
CREATED:20221219T065220Z
LAST-MODIFIED:20221219T065220Z
UID:549-1681929000-1681934400@assembleyourselves.org
SUMMARY:Wednesday Night Bible Study 041923
DESCRIPTION:Join us as we study God’s Word together on Wednesday evening at 6:30pm.
URL:https://assembleyourselves.org/event/wednesday-night-bible-study-041923/
LOCATION:Fellowship Hall\, 1706 N Jennings Rd\, Independence\, MO\, 64058\, United States
CATEGORIES:Wednesday Night Bible Study
END:VEVENT
BEGIN:VEVENT
DTSTART;TZID=America/Chicago:20230419T100000
DTEND;TZID=America/Chicago:20230419T110000
DTSTAMP:20260424T091904
CREATED:20221219T060415Z
LAST-MODIFIED:20221219T060415Z
UID:440-1681898400-1681902000@assembleyourselves.org
SUMMARY:Wednesday Morning Prayer 041923
DESCRIPTION:Join us as we pray together on Wednesday morning at 10am.
URL:https://assembleyourselves.org/event/wednesday-morning-prayer-041923/
LOCATION:Fellowship Hall\, 1706 N Jennings Rd\, Independence\, MO\, 64058\, United States
CATEGORIES:Wednesday Morning Prayer
END:VEVENT
BEGIN:VEVENT
DTSTART;TZID=America/Chicago:20230416T094500
DTEND;TZID=America/Chicago:20230416T120000
DTSTAMP:20260424T091904
CREATED:20221219T051344Z
LAST-MODIFIED:20221219T051344Z
UID:334-1681638300-1681646400@assembleyourselves.org
SUMMARY:Sunday Morning Service 041623
DESCRIPTION:Join us as we fellowship together on Sunday morning at 9:45am with refreshments immediately afterwards.
URL:https://assembleyourselves.org/event/sunday-morning-service-041623/
LOCATION:Main Sanctuary\, 1706 N Jennings Rd\, Independence\, MO\, 64058\, United States
CATEGORIES:Sunday Morning Service
END:VEVENT
BEGIN:VEVENT
DTSTART;TZID=America/Chicago:20230412T183000
DTEND;TZID=America/Chicago:20230412T200000
DTSTAMP:20260424T091904
CREATED:20221219T065051Z
LAST-MODIFIED:20221219T065051Z
UID:547-1681324200-1681329600@assembleyourselves.org
SUMMARY:Wednesday Night Bible Study 041223
DESCRIPTION:Join us as we study God’s Word together on Wednesday evening at 6:30pm.
URL:https://assembleyourselves.org/event/wednesday-night-bible-study-041223/
LOCATION:Fellowship Hall\, 1706 N Jennings Rd\, Independence\, MO\, 64058\, United States
CATEGORIES:Wednesday Night Bible Study
END:VEVENT
BEGIN:VEVENT
DTSTART;TZID=America/Chicago:20230412T100000
DTEND;TZID=America/Chicago:20230412T110000
DTSTAMP:20260424T091904
CREATED:20221219T060320Z
LAST-MODIFIED:20221219T060320Z
UID:438-1681293600-1681297200@assembleyourselves.org
SUMMARY:Wednesday Morning Prayer 041223
DESCRIPTION:Join us as we pray together on Wednesday morning at 10am.
URL:https://assembleyourselves.org/event/wednesday-morning-prayer-041223/
LOCATION:Fellowship Hall\, 1706 N Jennings Rd\, Independence\, MO\, 64058\, United States
CATEGORIES:Wednesday Morning Prayer
END:VEVENT
BEGIN:VEVENT
DTSTART;TZID=America/Chicago:20230409T094500
DTEND;TZID=America/Chicago:20230409T120000
DTSTAMP:20260424T091904
CREATED:20221219T051235Z
LAST-MODIFIED:20221219T051235Z
UID:332-1681033500-1681041600@assembleyourselves.org
SUMMARY:Sunday Morning Service 040923
DESCRIPTION:Join us as we fellowship together on Sunday morning at 9:45am with refreshments immediately afterwards.
URL:https://assembleyourselves.org/event/sunday-morning-service-040923/
LOCATION:Main Sanctuary\, 1706 N Jennings Rd\, Independence\, MO\, 64058\, United States
CATEGORIES:Sunday Morning Service
END:VEVENT
BEGIN:VEVENT
DTSTART;TZID=America/Chicago:20230405T183000
DTEND;TZID=America/Chicago:20230405T200000
DTSTAMP:20260424T091904
CREATED:20221219T065004Z
LAST-MODIFIED:20221219T065004Z
UID:545-1680719400-1680724800@assembleyourselves.org
SUMMARY:Wednesday Night Bible Study 040523
DESCRIPTION:Join us as we study God’s Word together on Wednesday evening at 6:30pm.
URL:https://assembleyourselves.org/event/wednesday-night-bible-study-040523/
LOCATION:Fellowship Hall\, 1706 N Jennings Rd\, Independence\, MO\, 64058\, United States
CATEGORIES:Wednesday Night Bible Study
END:VEVENT
BEGIN:VEVENT
DTSTART;TZID=America/Chicago:20230405T100000
DTEND;TZID=America/Chicago:20230405T110000
DTSTAMP:20260424T091904
CREATED:20221219T060223Z
LAST-MODIFIED:20221219T060223Z
UID:436-1680688800-1680692400@assembleyourselves.org
SUMMARY:Wednesday Morning Prayer 040523
DESCRIPTION:Join us as we pray together on Wednesday morning at 10am.
URL:https://assembleyourselves.org/event/wednesday-morning-prayer-040523/
LOCATION:Fellowship Hall\, 1706 N Jennings Rd\, Independence\, MO\, 64058\, United States
CATEGORIES:Wednesday Morning Prayer
END:VEVENT
BEGIN:VEVENT
DTSTART;TZID=America/Chicago:20230402T094500
DTEND;TZID=America/Chicago:20230402T120000
DTSTAMP:20260424T091904
CREATED:20221219T050721Z
LAST-MODIFIED:20221219T050721Z
UID:330-1680428700-1680436800@assembleyourselves.org
SUMMARY:Sunday Morning Service 040223
DESCRIPTION:Join us as we fellowship together on Sunday morning at 9:45am with refreshments immediately afterwards. \n 
URL:https://assembleyourselves.org/event/sunday-morning-service-040223/
LOCATION:Main Sanctuary\, 1706 N Jennings Rd\, Independence\, MO\, 64058\, United States
CATEGORIES:Sunday Morning Service
END:VEVENT
BEGIN:VEVENT
DTSTART;TZID=America/Chicago:20230329T183000
DTEND;TZID=America/Chicago:20230329T200000
DTSTAMP:20260424T091904
CREATED:20221219T064833Z
LAST-MODIFIED:20221219T064833Z
UID:543-1680114600-1680120000@assembleyourselves.org
SUMMARY:Wednesday Night Bible Study 032923
DESCRIPTION:Join us as we study God’s Word together on Wednesday evening at 6:30pm.
URL:https://assembleyourselves.org/event/wednesday-night-bible-study-032923/
LOCATION:Fellowship Hall\, 1706 N Jennings Rd\, Independence\, MO\, 64058\, United States
CATEGORIES:Wednesday Night Bible Study
END:VEVENT
BEGIN:VEVENT
DTSTART;TZID=America/Chicago:20230329T100000
DTEND;TZID=America/Chicago:20230329T110000
DTSTAMP:20260424T091904
CREATED:20221219T060112Z
LAST-MODIFIED:20221219T060112Z
UID:434-1680084000-1680087600@assembleyourselves.org
SUMMARY:Wednesday Morning Prayer 032923
DESCRIPTION:Join us as we pray together on Wednesday morning at 10am.
URL:https://assembleyourselves.org/event/wednesday-morning-prayer-032923/
LOCATION:Fellowship Hall\, 1706 N Jennings Rd\, Independence\, MO\, 64058\, United States
CATEGORIES:Wednesday Morning Prayer
END:VEVENT
BEGIN:VEVENT
DTSTART;TZID=America/Chicago:20230326T094500
DTEND;TZID=America/Chicago:20230326T120000
DTSTAMP:20260424T091904
CREATED:20221219T050212Z
LAST-MODIFIED:20221219T050212Z
UID:328-1679823900-1679832000@assembleyourselves.org
SUMMARY:Sunday Morning Service 032623
DESCRIPTION:Join us as we fellowship together on Sunday morning at 9:45am with refreshments immediately afterwards.
URL:https://assembleyourselves.org/event/sunday-morning-service-032623/
LOCATION:Main Sanctuary\, 1706 N Jennings Rd\, Independence\, MO\, 64058\, United States
CATEGORIES:Sunday Morning Service
END:VEVENT
BEGIN:VEVENT
DTSTART;TZID=America/Chicago:20230322T183000
DTEND;TZID=America/Chicago:20230322T200000
DTSTAMP:20260424T091904
CREATED:20221219T064755Z
LAST-MODIFIED:20221219T064755Z
UID:541-1679509800-1679515200@assembleyourselves.org
SUMMARY:Wednesday Night Bible Study 032223
DESCRIPTION:Join us as we study God’s Word together on Wednesday evening at 6:30pm.
URL:https://assembleyourselves.org/event/wednesday-night-bible-study-032223/
LOCATION:Fellowship Hall\, 1706 N Jennings Rd\, Independence\, MO\, 64058\, United States
CATEGORIES:Wednesday Night Bible Study
END:VEVENT
BEGIN:VEVENT
DTSTART;TZID=America/Chicago:20230322T100000
DTEND;TZID=America/Chicago:20230322T110000
DTSTAMP:20260424T091904
CREATED:20221219T060040Z
LAST-MODIFIED:20221219T060040Z
UID:432-1679479200-1679482800@assembleyourselves.org
SUMMARY:Wednesday Morning Prayer 032223
DESCRIPTION:Join us as we pray together on Wednesday morning at 10am.
URL:https://assembleyourselves.org/event/wednesday-morning-prayer-032223/
LOCATION:Fellowship Hall\, 1706 N Jennings Rd\, Independence\, MO\, 64058\, United States
CATEGORIES:Wednesday Morning Prayer
END:VEVENT
END:VCALENDAR