BEGIN:VCALENDAR
VERSION:2.0
PRODID:-//assembleyourselves.org - ECPv6.15.20//NONSGML v1.0//EN
CALSCALE:GREGORIAN
METHOD:PUBLISH
X-ORIGINAL-URL:https://assembleyourselves.org
X-WR-CALDESC:Events for assembleyourselves.org
REFRESH-INTERVAL;VALUE=DURATION:PT1H
X-Robots-Tag:noindex
X-PUBLISHED-TTL:PT1H
BEGIN:VTIMEZONE
TZID:America/Chicago
BEGIN:DAYLIGHT
TZOFFSETFROM:-0600
TZOFFSETTO:-0500
TZNAME:CDT
DTSTART:20250309T080000
END:DAYLIGHT
BEGIN:STANDARD
TZOFFSETFROM:-0500
TZOFFSETTO:-0600
TZNAME:CST
DTSTART:20251102T070000
END:STANDARD
BEGIN:DAYLIGHT
TZOFFSETFROM:-0600
TZOFFSETTO:-0500
TZNAME:CDT
DTSTART:20260308T080000
END:DAYLIGHT
BEGIN:STANDARD
TZOFFSETFROM:-0500
TZOFFSETTO:-0600
TZNAME:CST
DTSTART:20261101T070000
END:STANDARD
BEGIN:DAYLIGHT
TZOFFSETFROM:-0600
TZOFFSETTO:-0500
TZNAME:CDT
DTSTART:20270314T080000
END:DAYLIGHT
BEGIN:STANDARD
TZOFFSETFROM:-0500
TZOFFSETTO:-0600
TZNAME:CST
DTSTART:20271107T070000
END:STANDARD
END:VTIMEZONE
BEGIN:VEVENT
DTSTART;TZID=America/Chicago:20260326T190000
DTEND;TZID=America/Chicago:20260326T210000
DTSTAMP:20260423T154548
CREATED:20260316T160323Z
LAST-MODIFIED:20260316T160323Z
UID:2003-1774551600-1774558800@assembleyourselves.org
SUMMARY:Guest Speaker - Lee Thomas
DESCRIPTION:Come hear Lee Thomas\, author of Praying Effectively for the Lost share about his new book for understanding faith.  Lee Thomas has been a pastor and evangelist for many years\, and his books have made a huge impact on reaching those who are lost.
URL:https://assembleyourselves.org/event/guest-speaker-lee-thomas/
CATEGORIES:Special Event
END:VEVENT
BEGIN:VEVENT
DTSTART;TZID=America/Chicago:20260502T103000
DTEND;TZID=America/Chicago:20260502T123000
DTSTAMP:20260423T154548
CREATED:20260316T161231Z
LAST-MODIFIED:20260316T161231Z
UID:2005-1777717800-1777725000@assembleyourselves.org
SUMMARY:Mother/Daughter Brunch
DESCRIPTION:Pastor Esther Peterson will be speaking at a Mother/Daughter Brunch located at First Assembly in Raytown\, Missouri on Saturday\, May 2nd.  The brunch will be from 10:30 am to 12:30 pm.  Tickets are $10 for adults\, $7 for ages 6-12\, and free for 5 and under.  The address is 9800 E 350 Highway Raytown\, MO 64133.  Please see Pastor Esther for invitation\, spots are limited and must be reserved and paid for by April 19\, 2026.
URL:https://assembleyourselves.org/event/mother-daughter-brunch/
CATEGORIES:Special Event
END:VEVENT
END:VCALENDAR