BEGIN:VCALENDAR
VERSION:2.0
PRODID:-//assembleyourselves.org - ECPv6.15.20//NONSGML v1.0//EN
CALSCALE:GREGORIAN
METHOD:PUBLISH
X-ORIGINAL-URL:https://assembleyourselves.org
X-WR-CALDESC:Events for assembleyourselves.org
REFRESH-INTERVAL;VALUE=DURATION:PT1H
X-Robots-Tag:noindex
X-PUBLISHED-TTL:PT1H
BEGIN:VTIMEZONE
TZID:America/Chicago
BEGIN:DAYLIGHT
TZOFFSETFROM:-0600
TZOFFSETTO:-0500
TZNAME:CDT
DTSTART:20210314T080000
END:DAYLIGHT
BEGIN:STANDARD
TZOFFSETFROM:-0500
TZOFFSETTO:-0600
TZNAME:CST
DTSTART:20211107T070000
END:STANDARD
BEGIN:DAYLIGHT
TZOFFSETFROM:-0600
TZOFFSETTO:-0500
TZNAME:CDT
DTSTART:20220313T080000
END:DAYLIGHT
BEGIN:STANDARD
TZOFFSETFROM:-0500
TZOFFSETTO:-0600
TZNAME:CST
DTSTART:20221106T070000
END:STANDARD
BEGIN:DAYLIGHT
TZOFFSETFROM:-0600
TZOFFSETTO:-0500
TZNAME:CDT
DTSTART:20230312T080000
END:DAYLIGHT
BEGIN:STANDARD
TZOFFSETFROM:-0500
TZOFFSETTO:-0600
TZNAME:CST
DTSTART:20231105T070000
END:STANDARD
BEGIN:DAYLIGHT
TZOFFSETFROM:-0600
TZOFFSETTO:-0500
TZNAME:CDT
DTSTART:20240310T080000
END:DAYLIGHT
BEGIN:STANDARD
TZOFFSETFROM:-0500
TZOFFSETTO:-0600
TZNAME:CST
DTSTART:20241103T070000
END:STANDARD
END:VTIMEZONE
BEGIN:VEVENT
DTSTART;TZID=America/Chicago:20230719T183000
DTEND;TZID=America/Chicago:20230719T200000
DTSTAMP:20260423T211748
CREATED:20221219T070900Z
LAST-MODIFIED:20221219T070900Z
UID:576-1689791400-1689796800@assembleyourselves.org
SUMMARY:Wednesday Night Bible Study 071223
DESCRIPTION:Join us as we study God’s Word together on Wednesday evening at 6:30pm.
URL:https://assembleyourselves.org/event/wednesday-night-bible-study-071223/
LOCATION:Fellowship Hall\, 1706 N Jennings Rd\, Independence\, MO\, 64058\, United States
CATEGORIES:Wednesday Night Bible Study
END:VEVENT
BEGIN:VEVENT
DTSTART;TZID=America/Chicago:20230705T183000
DTEND;TZID=America/Chicago:20230705T200000
DTSTAMP:20260423T211748
CREATED:20221219T070813Z
LAST-MODIFIED:20221219T070813Z
UID:574-1688581800-1688587200@assembleyourselves.org
SUMMARY:Wednesday Night Bible Study 070523
DESCRIPTION:Join us as we study God’s Word together on Wednesday evening at 6:30pm.
URL:https://assembleyourselves.org/event/wednesday-night-bible-study-070523/
LOCATION:Fellowship Hall\, 1706 N Jennings Rd\, Independence\, MO\, 64058\, United States
CATEGORIES:Wednesday Night Bible Study
END:VEVENT
BEGIN:VEVENT
DTSTART;TZID=America/Chicago:20230628T183000
DTEND;TZID=America/Chicago:20230628T200000
DTSTAMP:20260423T211748
CREATED:20221219T070722Z
LAST-MODIFIED:20221219T070722Z
UID:572-1687977000-1687982400@assembleyourselves.org
SUMMARY:Wednesday Night Bible Study 062823
DESCRIPTION:Join us as we study God’s Word together on Wednesday evening at 6:30pm.
URL:https://assembleyourselves.org/event/wednesday-night-bible-study-062823/
LOCATION:Fellowship Hall\, 1706 N Jennings Rd\, Independence\, MO\, 64058\, United States
CATEGORIES:Wednesday Night Bible Study
END:VEVENT
BEGIN:VEVENT
DTSTART;TZID=America/Chicago:20230621T183000
DTEND;TZID=America/Chicago:20230621T200000
DTSTAMP:20260423T211748
CREATED:20221219T070640Z
LAST-MODIFIED:20221219T070640Z
UID:570-1687372200-1687377600@assembleyourselves.org
SUMMARY:Wednesday Night Bible Study 062123
DESCRIPTION:Join us as we study God’s Word together on Wednesday evening at 6:30pm.
URL:https://assembleyourselves.org/event/wednesday-night-bible-study-062123/
LOCATION:Fellowship Hall\, 1706 N Jennings Rd\, Independence\, MO\, 64058\, United States
CATEGORIES:Wednesday Night Bible Study
END:VEVENT
BEGIN:VEVENT
DTSTART;TZID=America/Chicago:20230614T183000
DTEND;TZID=America/Chicago:20230614T200000
DTSTAMP:20260423T211748
CREATED:20221219T070552Z
LAST-MODIFIED:20221219T070552Z
UID:568-1686767400-1686772800@assembleyourselves.org
SUMMARY:Wednesday Night Bible Study 061423
DESCRIPTION:Join us as we study God’s Word together on Wednesday evening at 6:30pm.
URL:https://assembleyourselves.org/event/wednesday-night-bible-study-061423/
LOCATION:Fellowship Hall\, 1706 N Jennings Rd\, Independence\, MO\, 64058\, United States
CATEGORIES:Wednesday Night Bible Study
END:VEVENT
BEGIN:VEVENT
DTSTART;TZID=America/Chicago:20230607T183000
DTEND;TZID=America/Chicago:20230607T200000
DTSTAMP:20260423T211748
CREATED:20221219T070414Z
LAST-MODIFIED:20221219T070414Z
UID:566-1686162600-1686168000@assembleyourselves.org
SUMMARY:Wednesday Night Bible Study 060723
DESCRIPTION:Join us as we study God’s Word together on Wednesday evening at 6:30pm.
URL:https://assembleyourselves.org/event/wednesday-night-bible-study-060723/
LOCATION:Fellowship Hall\, 1706 N Jennings Rd\, Independence\, MO\, 64058\, United States
CATEGORIES:Wednesday Night Bible Study
END:VEVENT
BEGIN:VEVENT
DTSTART;TZID=America/Chicago:20230531T183000
DTEND;TZID=America/Chicago:20230531T200000
DTSTAMP:20260423T211748
CREATED:20221219T070142Z
LAST-MODIFIED:20221219T070142Z
UID:564-1685557800-1685563200@assembleyourselves.org
SUMMARY:Wednesday Night Bible Study 053123
DESCRIPTION:Join us as we study God’s Word together on Wednesday evening at 6:30pm.
URL:https://assembleyourselves.org/event/wednesday-night-bible-study-053123/
LOCATION:Fellowship Hall\, 1706 N Jennings Rd\, Independence\, MO\, 64058\, United States
CATEGORIES:Wednesday Night Bible Study
END:VEVENT
BEGIN:VEVENT
DTSTART;TZID=America/Chicago:20230524T183000
DTEND;TZID=America/Chicago:20230524T200000
DTSTAMP:20260423T211748
CREATED:20221219T070058Z
LAST-MODIFIED:20221219T070058Z
UID:562-1684953000-1684958400@assembleyourselves.org
SUMMARY:Wednesday Night Bible Study 052423
DESCRIPTION:Join us as we study God’s Word together on Wednesday evening at 6:30pm.
URL:https://assembleyourselves.org/event/wednesday-night-bible-study-052423/
LOCATION:Fellowship Hall\, 1706 N Jennings Rd\, Independence\, MO\, 64058\, United States
CATEGORIES:Wednesday Night Bible Study
END:VEVENT
BEGIN:VEVENT
DTSTART;TZID=America/Chicago:20230517T183000
DTEND;TZID=America/Chicago:20230517T200000
DTSTAMP:20260423T211748
CREATED:20221219T065554Z
LAST-MODIFIED:20221219T065554Z
UID:557-1684348200-1684353600@assembleyourselves.org
SUMMARY:Wednesday Night Bible Study 051723
DESCRIPTION:Join us as we study God’s Word together on Wednesday evening at 6:30pm.
URL:https://assembleyourselves.org/event/wednesday-night-bible-study-051723/
LOCATION:Fellowship Hall\, 1706 N Jennings Rd\, Independence\, MO\, 64058\, United States
CATEGORIES:Wednesday Night Bible Study
END:VEVENT
BEGIN:VEVENT
DTSTART;TZID=America/Chicago:20230510T183000
DTEND;TZID=America/Chicago:20230510T200000
DTSTAMP:20260423T211748
CREATED:20221219T065507Z
LAST-MODIFIED:20221219T065507Z
UID:555-1683743400-1683748800@assembleyourselves.org
SUMMARY:Wednesday Night Bible Study 051023
DESCRIPTION:Join us as we study God’s Word together on Wednesday evening at 6:30pm.
URL:https://assembleyourselves.org/event/wednesday-night-bible-study-051023/
LOCATION:Fellowship Hall\, 1706 N Jennings Rd\, Independence\, MO\, 64058\, United States
CATEGORIES:Wednesday Night Bible Study
END:VEVENT
BEGIN:VEVENT
DTSTART;TZID=America/Chicago:20230503T183000
DTEND;TZID=America/Chicago:20230503T200000
DTSTAMP:20260423T211748
CREATED:20221219T065422Z
LAST-MODIFIED:20221219T065422Z
UID:553-1683138600-1683144000@assembleyourselves.org
SUMMARY:Wednesday Night Bible Study 050323
DESCRIPTION:Join us as we study God’s Word together on Wednesday evening at 6:30pm.
URL:https://assembleyourselves.org/event/wednesday-night-bible-study-050323/
LOCATION:Fellowship Hall\, 1706 N Jennings Rd\, Independence\, MO\, 64058\, United States
CATEGORIES:Wednesday Night Bible Study
END:VEVENT
BEGIN:VEVENT
DTSTART;TZID=America/Chicago:20230426T183000
DTEND;TZID=America/Chicago:20230426T200000
DTSTAMP:20260423T211748
CREATED:20221219T065328Z
LAST-MODIFIED:20221219T065328Z
UID:551-1682533800-1682539200@assembleyourselves.org
SUMMARY:Wednesday Night Bible Study 042623
DESCRIPTION:Join us as we study God’s Word together on Wednesday evening at 6:30pm.
URL:https://assembleyourselves.org/event/wednesday-night-bible-study-042623/
LOCATION:Fellowship Hall\, 1706 N Jennings Rd\, Independence\, MO\, 64058\, United States
CATEGORIES:Wednesday Night Bible Study
END:VEVENT
BEGIN:VEVENT
DTSTART;TZID=America/Chicago:20230419T183000
DTEND;TZID=America/Chicago:20230419T200000
DTSTAMP:20260423T211748
CREATED:20221219T065220Z
LAST-MODIFIED:20221219T065220Z
UID:549-1681929000-1681934400@assembleyourselves.org
SUMMARY:Wednesday Night Bible Study 041923
DESCRIPTION:Join us as we study God’s Word together on Wednesday evening at 6:30pm.
URL:https://assembleyourselves.org/event/wednesday-night-bible-study-041923/
LOCATION:Fellowship Hall\, 1706 N Jennings Rd\, Independence\, MO\, 64058\, United States
CATEGORIES:Wednesday Night Bible Study
END:VEVENT
BEGIN:VEVENT
DTSTART;TZID=America/Chicago:20230412T183000
DTEND;TZID=America/Chicago:20230412T200000
DTSTAMP:20260423T211748
CREATED:20221219T065051Z
LAST-MODIFIED:20221219T065051Z
UID:547-1681324200-1681329600@assembleyourselves.org
SUMMARY:Wednesday Night Bible Study 041223
DESCRIPTION:Join us as we study God’s Word together on Wednesday evening at 6:30pm.
URL:https://assembleyourselves.org/event/wednesday-night-bible-study-041223/
LOCATION:Fellowship Hall\, 1706 N Jennings Rd\, Independence\, MO\, 64058\, United States
CATEGORIES:Wednesday Night Bible Study
END:VEVENT
BEGIN:VEVENT
DTSTART;TZID=America/Chicago:20230405T183000
DTEND;TZID=America/Chicago:20230405T200000
DTSTAMP:20260423T211748
CREATED:20221219T065004Z
LAST-MODIFIED:20221219T065004Z
UID:545-1680719400-1680724800@assembleyourselves.org
SUMMARY:Wednesday Night Bible Study 040523
DESCRIPTION:Join us as we study God’s Word together on Wednesday evening at 6:30pm.
URL:https://assembleyourselves.org/event/wednesday-night-bible-study-040523/
LOCATION:Fellowship Hall\, 1706 N Jennings Rd\, Independence\, MO\, 64058\, United States
CATEGORIES:Wednesday Night Bible Study
END:VEVENT
BEGIN:VEVENT
DTSTART;TZID=America/Chicago:20230329T183000
DTEND;TZID=America/Chicago:20230329T200000
DTSTAMP:20260423T211748
CREATED:20221219T064833Z
LAST-MODIFIED:20221219T064833Z
UID:543-1680114600-1680120000@assembleyourselves.org
SUMMARY:Wednesday Night Bible Study 032923
DESCRIPTION:Join us as we study God’s Word together on Wednesday evening at 6:30pm.
URL:https://assembleyourselves.org/event/wednesday-night-bible-study-032923/
LOCATION:Fellowship Hall\, 1706 N Jennings Rd\, Independence\, MO\, 64058\, United States
CATEGORIES:Wednesday Night Bible Study
END:VEVENT
BEGIN:VEVENT
DTSTART;TZID=America/Chicago:20230322T183000
DTEND;TZID=America/Chicago:20230322T200000
DTSTAMP:20260423T211748
CREATED:20221219T064755Z
LAST-MODIFIED:20221219T064755Z
UID:541-1679509800-1679515200@assembleyourselves.org
SUMMARY:Wednesday Night Bible Study 032223
DESCRIPTION:Join us as we study God’s Word together on Wednesday evening at 6:30pm.
URL:https://assembleyourselves.org/event/wednesday-night-bible-study-032223/
LOCATION:Fellowship Hall\, 1706 N Jennings Rd\, Independence\, MO\, 64058\, United States
CATEGORIES:Wednesday Night Bible Study
END:VEVENT
BEGIN:VEVENT
DTSTART;TZID=America/Chicago:20230315T183000
DTEND;TZID=America/Chicago:20230315T200000
DTSTAMP:20260423T211748
CREATED:20221219T064659Z
LAST-MODIFIED:20221219T064659Z
UID:539-1678905000-1678910400@assembleyourselves.org
SUMMARY:Wednesday Night Bible Study 031523
DESCRIPTION:Join us as we study God’s Word together on Wednesday evening at 6:30pm.
URL:https://assembleyourselves.org/event/wednesday-night-bible-study-031523/
LOCATION:Fellowship Hall\, 1706 N Jennings Rd\, Independence\, MO\, 64058\, United States
CATEGORIES:Wednesday Night Bible Study
END:VEVENT
BEGIN:VEVENT
DTSTART;TZID=America/Chicago:20230308T183000
DTEND;TZID=America/Chicago:20230308T200000
DTSTAMP:20260423T211748
CREATED:20221219T064257Z
LAST-MODIFIED:20221219T064257Z
UID:532-1678300200-1678305600@assembleyourselves.org
SUMMARY:Wednesday Night Bible Study 030823
DESCRIPTION:Join us as we study God’s Word together on Wednesday evening at 6:30pm.
URL:https://assembleyourselves.org/event/wednesday-night-bible-study-030823/
LOCATION:Fellowship Hall\, 1706 N Jennings Rd\, Independence\, MO\, 64058\, United States
CATEGORIES:Wednesday Night Bible Study
END:VEVENT
BEGIN:VEVENT
DTSTART;TZID=America/Chicago:20230301T183000
DTEND;TZID=America/Chicago:20230301T200000
DTSTAMP:20260423T211748
CREATED:20221219T064216Z
LAST-MODIFIED:20221219T064216Z
UID:530-1677695400-1677700800@assembleyourselves.org
SUMMARY:Wednesday Night Bible Study 030123
DESCRIPTION:Join us as we study God’s Word together on Wednesday evening at 6:30pm.
URL:https://assembleyourselves.org/event/wednesday-night-bible-study-030123/
LOCATION:Fellowship Hall\, 1706 N Jennings Rd\, Independence\, MO\, 64058\, United States
CATEGORIES:Wednesday Night Bible Study
END:VEVENT
BEGIN:VEVENT
DTSTART;TZID=America/Chicago:20230222T183000
DTEND;TZID=America/Chicago:20230222T200000
DTSTAMP:20260423T211748
CREATED:20221219T064130Z
LAST-MODIFIED:20221219T064130Z
UID:528-1677090600-1677096000@assembleyourselves.org
SUMMARY:Wednesday Night Bible Study 022223
DESCRIPTION:Join us as we study God’s Word together on Wednesday evening at 6:30pm.
URL:https://assembleyourselves.org/event/wednesday-night-bible-study-022223/
LOCATION:Fellowship Hall\, 1706 N Jennings Rd\, Independence\, MO\, 64058\, United States
CATEGORIES:Wednesday Night Bible Study
END:VEVENT
BEGIN:VEVENT
DTSTART;TZID=America/Chicago:20230215T183000
DTEND;TZID=America/Chicago:20230215T200000
DTSTAMP:20260423T211748
CREATED:20221219T064036Z
LAST-MODIFIED:20221219T064036Z
UID:526-1676485800-1676491200@assembleyourselves.org
SUMMARY:Wednesday Night Bible Study 021523
DESCRIPTION:Join us as we study God’s Word together on Wednesday evening at 6:30pm.
URL:https://assembleyourselves.org/event/wednesday-night-bible-study-021523/
LOCATION:Fellowship Hall\, 1706 N Jennings Rd\, Independence\, MO\, 64058\, United States
CATEGORIES:Wednesday Night Bible Study
END:VEVENT
BEGIN:VEVENT
DTSTART;TZID=America/Chicago:20230208T183000
DTEND;TZID=America/Chicago:20230208T200000
DTSTAMP:20260423T211748
CREATED:20221219T063959Z
LAST-MODIFIED:20221219T063959Z
UID:524-1675881000-1675886400@assembleyourselves.org
SUMMARY:Wednesday Night Bible Study 020823
DESCRIPTION:Join us as we study God’s Word together on Wednesday evening at 6:30pm.
URL:https://assembleyourselves.org/event/wednesday-night-bible-study-020823/
LOCATION:Fellowship Hall\, 1706 N Jennings Rd\, Independence\, MO\, 64058\, United States
CATEGORIES:Wednesday Night Bible Study
END:VEVENT
BEGIN:VEVENT
DTSTART;TZID=America/Chicago:20230201T183000
DTEND;TZID=America/Chicago:20230201T200000
DTSTAMP:20260423T211748
CREATED:20221219T063920Z
LAST-MODIFIED:20221219T063920Z
UID:522-1675276200-1675281600@assembleyourselves.org
SUMMARY:Wednesday Night Bible Study 020123
DESCRIPTION:Join us as we study God’s Word together on Wednesday evening at 6:30pm.
URL:https://assembleyourselves.org/event/wednesday-night-bible-study-020123/
LOCATION:Fellowship Hall\, 1706 N Jennings Rd\, Independence\, MO\, 64058\, United States
CATEGORIES:Wednesday Night Bible Study
END:VEVENT
BEGIN:VEVENT
DTSTART;TZID=America/Chicago:20230125T183000
DTEND;TZID=America/Chicago:20230125T200000
DTSTAMP:20260423T211748
CREATED:20221219T063833Z
LAST-MODIFIED:20221219T063833Z
UID:520-1674671400-1674676800@assembleyourselves.org
SUMMARY:Wednesday Night Bible Study 012523
DESCRIPTION:Join us as we study God’s Word together on Wednesday evening at 6:30pm.
URL:https://assembleyourselves.org/event/wednesday-night-bible-study-012523-2/
LOCATION:Fellowship Hall\, 1706 N Jennings Rd\, Independence\, MO\, 64058\, United States
CATEGORIES:Wednesday Night Bible Study
END:VEVENT
BEGIN:VEVENT
DTSTART;TZID=America/Chicago:20230118T183000
DTEND;TZID=America/Chicago:20230118T200000
DTSTAMP:20260423T211748
CREATED:20221219T063655Z
LAST-MODIFIED:20221219T063655Z
UID:518-1674066600-1674072000@assembleyourselves.org
SUMMARY:Wednesday Night Bible Study 012523
DESCRIPTION:Join us as we study God’s Word together on Wednesday evening at 6:30pm.
URL:https://assembleyourselves.org/event/wednesday-night-bible-study-012523/
LOCATION:Fellowship Hall\, 1706 N Jennings Rd\, Independence\, MO\, 64058\, United States
CATEGORIES:Wednesday Night Bible Study
END:VEVENT
BEGIN:VEVENT
DTSTART;TZID=America/Chicago:20230118T183000
DTEND;TZID=America/Chicago:20230118T200000
DTSTAMP:20260423T211748
CREATED:20221219T063604Z
LAST-MODIFIED:20221219T063604Z
UID:516-1674066600-1674072000@assembleyourselves.org
SUMMARY:Wednesday Night Bible Study 011823
DESCRIPTION:Join us as we study God’s Word together on Wednesday evening at 6:30pm.
URL:https://assembleyourselves.org/event/wednesday-night-bible-study-011823/
LOCATION:Fellowship Hall\, 1706 N Jennings Rd\, Independence\, MO\, 64058\, United States
CATEGORIES:Wednesday Night Bible Study
END:VEVENT
BEGIN:VEVENT
DTSTART;TZID=America/Chicago:20230111T183000
DTEND;TZID=America/Chicago:20230111T200000
DTSTAMP:20260423T211748
CREATED:20221219T063515Z
LAST-MODIFIED:20221219T063515Z
UID:514-1673461800-1673467200@assembleyourselves.org
SUMMARY:Wednesday Night Bible Study 011123
DESCRIPTION:Join us as we study God’s Word together on Wednesday evening at 6:30pm.
URL:https://assembleyourselves.org/event/wednesday-night-bible-study-011123/
LOCATION:Fellowship Hall\, 1706 N Jennings Rd\, Independence\, MO\, 64058\, United States
CATEGORIES:Wednesday Night Bible Study
END:VEVENT
BEGIN:VEVENT
DTSTART;TZID=America/Chicago:20230104T183000
DTEND;TZID=America/Chicago:20230104T200000
DTSTAMP:20260423T211748
CREATED:20221219T044803Z
LAST-MODIFIED:20221219T044803Z
UID:304-1672857000-1672862400@assembleyourselves.org
SUMMARY:Wednesday Night Bible Study 010423
DESCRIPTION:Join us as we study God’s Word together on Wednesday evening at 6:30pm.
URL:https://assembleyourselves.org/event/wednesday-night-bible-study-010423/
LOCATION:Fellowship Hall\, 1706 N Jennings Rd\, Independence\, MO\, 64058\, United States
CATEGORIES:Wednesday Night Bible Study
END:VEVENT
BEGIN:VEVENT
DTSTART;VALUE=DATE:20221228
DTEND;VALUE=DATE:20221229
DTSTAMP:20260423T211748
CREATED:20221228T065844Z
LAST-MODIFIED:20240716T184125Z
UID:631-1672185600-1672271999@assembleyourselves.org
SUMMARY:Wednesday Night Bible Study
DESCRIPTION:Wednesday evening Bible study has been canceled for December 28th.
URL:https://assembleyourselves.org/event/wednesday-night-bible-study/
LOCATION:MO
CATEGORIES:Wednesday Night Bible Study
END:VEVENT
END:VCALENDAR