BEGIN:VCALENDAR
VERSION:2.0
PRODID:-//assembleyourselves.org - ECPv6.15.20//NONSGML v1.0//EN
CALSCALE:GREGORIAN
METHOD:PUBLISH
X-WR-CALNAME:assembleyourselves.org
X-ORIGINAL-URL:https://assembleyourselves.org
X-WR-CALDESC:Events for assembleyourselves.org
REFRESH-INTERVAL;VALUE=DURATION:PT1H
X-Robots-Tag:noindex
X-PUBLISHED-TTL:PT1H
BEGIN:VTIMEZONE
TZID:America/Chicago
BEGIN:DAYLIGHT
TZOFFSETFROM:-0600
TZOFFSETTO:-0500
TZNAME:CDT
DTSTART:20210314T080000
END:DAYLIGHT
BEGIN:STANDARD
TZOFFSETFROM:-0500
TZOFFSETTO:-0600
TZNAME:CST
DTSTART:20211107T070000
END:STANDARD
BEGIN:DAYLIGHT
TZOFFSETFROM:-0600
TZOFFSETTO:-0500
TZNAME:CDT
DTSTART:20220313T080000
END:DAYLIGHT
BEGIN:STANDARD
TZOFFSETFROM:-0500
TZOFFSETTO:-0600
TZNAME:CST
DTSTART:20221106T070000
END:STANDARD
BEGIN:DAYLIGHT
TZOFFSETFROM:-0600
TZOFFSETTO:-0500
TZNAME:CDT
DTSTART:20230312T080000
END:DAYLIGHT
BEGIN:STANDARD
TZOFFSETFROM:-0500
TZOFFSETTO:-0600
TZNAME:CST
DTSTART:20231105T070000
END:STANDARD
BEGIN:DAYLIGHT
TZOFFSETFROM:-0600
TZOFFSETTO:-0500
TZNAME:CDT
DTSTART:20240310T080000
END:DAYLIGHT
BEGIN:STANDARD
TZOFFSETFROM:-0500
TZOFFSETTO:-0600
TZNAME:CST
DTSTART:20241103T070000
END:STANDARD
END:VTIMEZONE
BEGIN:VEVENT
DTSTART;TZID=America/Chicago:20230125T100000
DTEND;TZID=America/Chicago:20230125T110000
DTSTAMP:20260424T004550
CREATED:20221219T055253Z
LAST-MODIFIED:20221219T055253Z
UID:416-1674640800-1674644400@assembleyourselves.org
SUMMARY:Wednesday Morning Prayer 012523
DESCRIPTION:Join us as we pray together on Wednesday morning at 10am.
URL:https://assembleyourselves.org/event/wednesday-morning-prayer-012523/
LOCATION:Fellowship Hall\, 1706 N Jennings Rd\, Independence\, MO\, 64058\, United States
CATEGORIES:Wednesday Morning Prayer
END:VEVENT
BEGIN:VEVENT
DTSTART;TZID=America/Chicago:20230118T100000
DTEND;TZID=America/Chicago:20230118T110000
DTSTAMP:20260424T004550
CREATED:20221219T055209Z
LAST-MODIFIED:20221219T055209Z
UID:414-1674036000-1674039600@assembleyourselves.org
SUMMARY:Wednesday Morning Prayer 011823
DESCRIPTION:Join us as we pray together on Wednesday morning at 10am.
URL:https://assembleyourselves.org/event/wednesday-morning-prayer-011823/
LOCATION:Fellowship Hall\, 1706 N Jennings Rd\, Independence\, MO\, 64058\, United States
CATEGORIES:Wednesday Morning Prayer
END:VEVENT
BEGIN:VEVENT
DTSTART;TZID=America/Chicago:20230111T100000
DTEND;TZID=America/Chicago:20230111T110000
DTSTAMP:20260424T004551
CREATED:20221219T055132Z
LAST-MODIFIED:20221219T055132Z
UID:412-1673431200-1673434800@assembleyourselves.org
SUMMARY:Wednesday Morning Prayer 011123
DESCRIPTION:Join us as we pray together on Wednesday morning at 10am.
URL:https://assembleyourselves.org/event/wednesday-morning-prayer-011123/
LOCATION:Fellowship Hall\, 1706 N Jennings Rd\, Independence\, MO\, 64058\, United States
CATEGORIES:Wednesday Morning Prayer
END:VEVENT
BEGIN:VEVENT
DTSTART;TZID=America/Chicago:20230104T100000
DTEND;TZID=America/Chicago:20230104T110000
DTSTAMP:20260424T004551
CREATED:20221219T044210Z
LAST-MODIFIED:20221219T044210Z
UID:300-1672826400-1672830000@assembleyourselves.org
SUMMARY:Wednesday Morning Prayer 010423
DESCRIPTION:Join us as we pray together on Wednesday morning at 10am.
URL:https://assembleyourselves.org/event/wednesday-morning-prayer-010423/
LOCATION:Fellowship Hall\, 1706 N Jennings Rd\, Independence\, MO\, 64058\, United States
CATEGORIES:Wednesday Morning Prayer
END:VEVENT
BEGIN:VEVENT
DTSTART;TZID=America/Chicago:20221228T100000
DTEND;TZID=America/Chicago:20221228T110000
DTSTAMP:20260424T004551
CREATED:20221219T044034Z
LAST-MODIFIED:20221219T044034Z
UID:297-1672221600-1672225200@assembleyourselves.org
SUMMARY:Wednesday Morning Prayer 122822
DESCRIPTION:Join us as we pray together on Wednesday morning at 10am.
URL:https://assembleyourselves.org/event/wednesday-morning-prayer-122822/
LOCATION:Fellowship Hall\, 1706 N Jennings Rd\, Independence\, MO\, 64058\, United States
CATEGORIES:Wednesday Morning Prayer
END:VEVENT
BEGIN:VEVENT
DTSTART;TZID=America/Chicago:20221214T100000
DTEND;TZID=America/Chicago:20221214T113000
DTSTAMP:20260424T004551
CREATED:20221130T080402Z
LAST-MODIFIED:20221130T080402Z
UID:239-1671012000-1671017400@assembleyourselves.org
SUMMARY:Wednesday Morning Prayer 121422
DESCRIPTION:Join us as we pray together on Wednesday morning at 10am.
URL:https://assembleyourselves.org/event/wednesday-morning-prayer-121422/
LOCATION:Main Sanctuary\, 1706 N Jennings Rd\, Independence\, MO\, 64058\, United States
CATEGORIES:Wednesday Morning Prayer
END:VEVENT
BEGIN:VEVENT
DTSTART;TZID=America/Chicago:20221207T100000
DTEND;TZID=America/Chicago:20221207T113000
DTSTAMP:20260424T004551
CREATED:20221130T075559Z
LAST-MODIFIED:20221130T075559Z
UID:232-1670407200-1670412600@assembleyourselves.org
SUMMARY:Wednesday Morning Prayer 120722
DESCRIPTION:Join us as we pray together on Wednesday morning at 10am.
URL:https://assembleyourselves.org/event/wednesday-morning-prayer-120722/
LOCATION:Main Sanctuary\, 1706 N Jennings Rd\, Independence\, MO\, 64058\, United States
CATEGORIES:Wednesday Morning Prayer
END:VEVENT
BEGIN:VEVENT
DTSTART;TZID=America/Chicago:20221130T100000
DTEND;TZID=America/Chicago:20221130T113000
DTSTAMP:20260424T004551
CREATED:20221130T075952Z
LAST-MODIFIED:20221130T075952Z
UID:235-1669802400-1669807800@assembleyourselves.org
SUMMARY:Wednesday Morning Prayer 113022
DESCRIPTION:Join us as we pray together on Wednesday morning at 10am.
URL:https://assembleyourselves.org/event/wednesday-morning-prayer-113022/
LOCATION:Main Sanctuary\, 1706 N Jennings Rd\, Independence\, MO\, 64058\, United States
CATEGORIES:Wednesday Morning Prayer
END:VEVENT
END:VCALENDAR