BEGIN:VCALENDAR
VERSION:2.0
PRODID:-//assembleyourselves.org - ECPv6.15.20//NONSGML v1.0//EN
CALSCALE:GREGORIAN
METHOD:PUBLISH
X-ORIGINAL-URL:https://assembleyourselves.org
X-WR-CALDESC:Events for assembleyourselves.org
REFRESH-INTERVAL;VALUE=DURATION:PT1H
X-Robots-Tag:noindex
X-PUBLISHED-TTL:PT1H
BEGIN:VTIMEZONE
TZID:America/Chicago
BEGIN:DAYLIGHT
TZOFFSETFROM:-0600
TZOFFSETTO:-0500
TZNAME:CDT
DTSTART:20220313T080000
END:DAYLIGHT
BEGIN:STANDARD
TZOFFSETFROM:-0500
TZOFFSETTO:-0600
TZNAME:CST
DTSTART:20221106T070000
END:STANDARD
BEGIN:DAYLIGHT
TZOFFSETFROM:-0600
TZOFFSETTO:-0500
TZNAME:CDT
DTSTART:20230312T080000
END:DAYLIGHT
BEGIN:STANDARD
TZOFFSETFROM:-0500
TZOFFSETTO:-0600
TZNAME:CST
DTSTART:20231105T070000
END:STANDARD
BEGIN:DAYLIGHT
TZOFFSETFROM:-0600
TZOFFSETTO:-0500
TZNAME:CDT
DTSTART:20240310T080000
END:DAYLIGHT
BEGIN:STANDARD
TZOFFSETFROM:-0500
TZOFFSETTO:-0600
TZNAME:CST
DTSTART:20241103T070000
END:STANDARD
BEGIN:DAYLIGHT
TZOFFSETFROM:-0600
TZOFFSETTO:-0500
TZNAME:CDT
DTSTART:20250309T080000
END:DAYLIGHT
BEGIN:STANDARD
TZOFFSETFROM:-0500
TZOFFSETTO:-0600
TZNAME:CST
DTSTART:20251102T070000
END:STANDARD
END:VTIMEZONE
BEGIN:VEVENT
DTSTART;TZID=America/Chicago:20240717T090000
DTEND;TZID=America/Chicago:20240717T103000
DTSTAMP:20260423T173816
CREATED:20221219T063348Z
LAST-MODIFIED:20260128T170850Z
UID:512-1721206800-1721212200@assembleyourselves.org
SUMMARY:Wednesday Morning Prayer
DESCRIPTION:Join us as we pray together on Wednesday morning at 10am.
URL:https://assembleyourselves.org/event/wednesday-morning-prayer/
LOCATION:Main Sanctuary\, 1706 N Jennings Rd\, Independence\, MO\, 64058\, United States
CATEGORIES:Wednesday Morning Prayer
END:VEVENT
BEGIN:VEVENT
DTSTART;TZID=America/Chicago:20231220T080000
DTEND;TZID=America/Chicago:20231220T170000
DTSTAMP:20260423T173816
CREATED:20221219T063250Z
LAST-MODIFIED:20221219T063250Z
UID:510-1703059200-1703091600@assembleyourselves.org
SUMMARY:Wednesday Morning Prayer 122023
DESCRIPTION:Join us as we pray together on Wednesday morning at 10am.
URL:https://assembleyourselves.org/event/wednesday-morning-prayer-122023/
LOCATION:Fellowship Hall\, 1706 N Jennings Rd\, Independence\, MO\, 64058\, United States
CATEGORIES:Wednesday Morning Prayer
END:VEVENT
BEGIN:VEVENT
DTSTART;TZID=America/Chicago:20231213T100000
DTEND;TZID=America/Chicago:20231213T110000
DTSTAMP:20260423T173816
CREATED:20221219T063218Z
LAST-MODIFIED:20221219T063218Z
UID:508-1702461600-1702465200@assembleyourselves.org
SUMMARY:Wednesday Morning Prayer 121323
DESCRIPTION:Join us as we pray together on Wednesday morning at 10am.
URL:https://assembleyourselves.org/event/wednesday-morning-prayer-121323/
LOCATION:Fellowship Hall\, 1706 N Jennings Rd\, Independence\, MO\, 64058\, United States
CATEGORIES:Wednesday Morning Prayer
END:VEVENT
BEGIN:VEVENT
DTSTART;TZID=America/Chicago:20231206T100000
DTEND;TZID=America/Chicago:20231206T110000
DTSTAMP:20260423T173816
CREATED:20221219T063141Z
LAST-MODIFIED:20221219T063141Z
UID:506-1701856800-1701860400@assembleyourselves.org
SUMMARY:Wednesday Morning Prayer 120623
DESCRIPTION:Join us as we pray together on Wednesday morning at 10am.
URL:https://assembleyourselves.org/event/wednesday-morning-prayer-120623/
LOCATION:Fellowship Hall\, 1706 N Jennings Rd\, Independence\, MO\, 64058\, United States
CATEGORIES:Wednesday Morning Prayer
END:VEVENT
BEGIN:VEVENT
DTSTART;TZID=America/Chicago:20231129T100000
DTEND;TZID=America/Chicago:20231129T110000
DTSTAMP:20260423T173816
CREATED:20221219T063057Z
LAST-MODIFIED:20221219T063057Z
UID:504-1701252000-1701255600@assembleyourselves.org
SUMMARY:Wednesday Morning Prayer 112923
DESCRIPTION:Join us as we pray together on Wednesday morning at 10am.
URL:https://assembleyourselves.org/event/wednesday-morning-prayer-112923/
LOCATION:Fellowship Hall\, 1706 N Jennings Rd\, Independence\, MO\, 64058\, United States
CATEGORIES:Wednesday Morning Prayer
END:VEVENT
BEGIN:VEVENT
DTSTART;TZID=America/Chicago:20231122T100000
DTEND;TZID=America/Chicago:20231122T110000
DTSTAMP:20260423T173816
CREATED:20221219T063024Z
LAST-MODIFIED:20221219T063024Z
UID:502-1700647200-1700650800@assembleyourselves.org
SUMMARY:Wednesday Morning Prayer 112223
DESCRIPTION:Join us as we pray together on Wednesday morning at 10am.
URL:https://assembleyourselves.org/event/wednesday-morning-prayer-112223/
LOCATION:Fellowship Hall\, 1706 N Jennings Rd\, Independence\, MO\, 64058\, United States
CATEGORIES:Wednesday Morning Prayer
END:VEVENT
BEGIN:VEVENT
DTSTART;TZID=America/Chicago:20231115T100000
DTEND;TZID=America/Chicago:20231115T110000
DTSTAMP:20260423T173816
CREATED:20221219T062916Z
LAST-MODIFIED:20221219T062916Z
UID:500-1700042400-1700046000@assembleyourselves.org
SUMMARY:Wednesday Morning Prayer 111523
DESCRIPTION:Join us as we pray together on Wednesday morning at 10am.
URL:https://assembleyourselves.org/event/wednesday-morning-prayer-111523/
LOCATION:Fellowship Hall\, 1706 N Jennings Rd\, Independence\, MO\, 64058\, United States
CATEGORIES:Wednesday Morning Prayer
END:VEVENT
BEGIN:VEVENT
DTSTART;TZID=America/Chicago:20231108T100000
DTEND;TZID=America/Chicago:20231108T110000
DTSTAMP:20260423T173816
CREATED:20221219T062836Z
LAST-MODIFIED:20221219T062836Z
UID:498-1699437600-1699441200@assembleyourselves.org
SUMMARY:Wednesday Morning Prayer 110823
DESCRIPTION:Join us as we pray together on Wednesday morning at 10am.
URL:https://assembleyourselves.org/event/wednesday-morning-prayer-110823/
LOCATION:Fellowship Hall\, 1706 N Jennings Rd\, Independence\, MO\, 64058\, United States
CATEGORIES:Wednesday Morning Prayer
END:VEVENT
BEGIN:VEVENT
DTSTART;TZID=America/Chicago:20231101T100000
DTEND;TZID=America/Chicago:20231101T110000
DTSTAMP:20260423T173816
CREATED:20221219T062756Z
LAST-MODIFIED:20221219T062756Z
UID:496-1698832800-1698836400@assembleyourselves.org
SUMMARY:Wednesday Morning Service 110123
DESCRIPTION:Join us as we pray together on Wednesday morning at 10am.
URL:https://assembleyourselves.org/event/wednesday-morning-service-110123/
LOCATION:Fellowship Hall\, 1706 N Jennings Rd\, Independence\, MO\, 64058\, United States
CATEGORIES:Wednesday Morning Prayer
END:VEVENT
BEGIN:VEVENT
DTSTART;TZID=America/Chicago:20231025T100000
DTEND;TZID=America/Chicago:20231025T110000
DTSTAMP:20260423T173816
CREATED:20221219T062701Z
LAST-MODIFIED:20221219T062701Z
UID:494-1698228000-1698231600@assembleyourselves.org
SUMMARY:Wednesday Morning Prayer 102523
DESCRIPTION:Join us as we pray together on Wednesday morning at 10am.
URL:https://assembleyourselves.org/event/wednesday-morning-prayer-102523/
LOCATION:Fellowship Hall\, 1706 N Jennings Rd\, Independence\, MO\, 64058\, United States
CATEGORIES:Wednesday Morning Prayer
END:VEVENT
BEGIN:VEVENT
DTSTART;TZID=America/Chicago:20231018T100000
DTEND;TZID=America/Chicago:20231018T110000
DTSTAMP:20260423T173816
CREATED:20221219T062543Z
LAST-MODIFIED:20221219T062543Z
UID:492-1697623200-1697626800@assembleyourselves.org
SUMMARY:Wednesday Morning Prayer 101823
DESCRIPTION:Join us as we pray together on Wednesday morning at 10am.
URL:https://assembleyourselves.org/event/wednesday-morning-prayer-101823/
LOCATION:Fellowship Hall\, 1706 N Jennings Rd\, Independence\, MO\, 64058\, United States
CATEGORIES:Wednesday Morning Prayer
END:VEVENT
BEGIN:VEVENT
DTSTART;TZID=America/Chicago:20231011T100000
DTEND;TZID=America/Chicago:20231011T110000
DTSTAMP:20260423T173816
CREATED:20221219T062507Z
LAST-MODIFIED:20221219T062507Z
UID:490-1697018400-1697022000@assembleyourselves.org
SUMMARY:Wednesday Morning Prayer 101123
DESCRIPTION:Join us as we pray together on Wednesday morning at 10am.
URL:https://assembleyourselves.org/event/wednesday-morning-prayer-101123/
LOCATION:Fellowship Hall\, 1706 N Jennings Rd\, Independence\, MO\, 64058\, United States
CATEGORIES:Wednesday Morning Prayer
END:VEVENT
BEGIN:VEVENT
DTSTART;TZID=America/Chicago:20231004T100000
DTEND;TZID=America/Chicago:20231004T110000
DTSTAMP:20260423T173816
CREATED:20221219T062430Z
LAST-MODIFIED:20221219T062430Z
UID:488-1696413600-1696417200@assembleyourselves.org
SUMMARY:Wednesday Morning Prayer 100423
DESCRIPTION:Join us as we pray together on Wednesday morning at 10am.
URL:https://assembleyourselves.org/event/wednesday-morning-prayer-100423/
LOCATION:Fellowship Hall\, 1706 N Jennings Rd\, Independence\, MO\, 64058\, United States
CATEGORIES:Wednesday Morning Prayer
END:VEVENT
BEGIN:VEVENT
DTSTART;TZID=America/Chicago:20230927T100000
DTEND;TZID=America/Chicago:20230927T110000
DTSTAMP:20260423T173816
CREATED:20221219T062345Z
LAST-MODIFIED:20221219T062345Z
UID:486-1695808800-1695812400@assembleyourselves.org
SUMMARY:Wednesday Morning Prayer 092723
DESCRIPTION:Join us as we pray together on Wednesday morning at 10am.
URL:https://assembleyourselves.org/event/wednesday-morning-prayer-092723/
LOCATION:Fellowship Hall\, 1706 N Jennings Rd\, Independence\, MO\, 64058\, United States
CATEGORIES:Wednesday Morning Prayer
END:VEVENT
BEGIN:VEVENT
DTSTART;TZID=America/Chicago:20230920T100000
DTEND;TZID=America/Chicago:20230920T110000
DTSTAMP:20260423T173816
CREATED:20221219T062310Z
LAST-MODIFIED:20221219T062310Z
UID:484-1695204000-1695207600@assembleyourselves.org
SUMMARY:Wednesday Morning Prayer 092023
DESCRIPTION:Join us as we pray together on Wednesday morning at 10am.
URL:https://assembleyourselves.org/event/wednesday-morning-prayer-092023/
LOCATION:Fellowship Hall\, 1706 N Jennings Rd\, Independence\, MO\, 64058\, United States
CATEGORIES:Wednesday Morning Prayer
END:VEVENT
BEGIN:VEVENT
DTSTART;TZID=America/Chicago:20230913T100000
DTEND;TZID=America/Chicago:20230913T110000
DTSTAMP:20260423T173816
CREATED:20221219T062228Z
LAST-MODIFIED:20221219T062228Z
UID:482-1694599200-1694602800@assembleyourselves.org
SUMMARY:Wednesday Morning Prayer 091323
DESCRIPTION:Join us as we pray together on Wednesday morning at 10am.
URL:https://assembleyourselves.org/event/wednesday-morning-prayer-091323/
LOCATION:Fellowship Hall\, 1706 N Jennings Rd\, Independence\, MO\, 64058\, United States
CATEGORIES:Wednesday Morning Prayer
END:VEVENT
BEGIN:VEVENT
DTSTART;TZID=America/Chicago:20230906T100000
DTEND;TZID=America/Chicago:20230906T110000
DTSTAMP:20260423T173816
CREATED:20221219T062143Z
LAST-MODIFIED:20221219T062143Z
UID:480-1693994400-1693998000@assembleyourselves.org
SUMMARY:Wednesday Morning Prayer 090623
DESCRIPTION:Join us as we pray together on Wednesday morning at 10am.
URL:https://assembleyourselves.org/event/wednesday-morning-prayer-090623/
LOCATION:Fellowship Hall\, 1706 N Jennings Rd\, Independence\, MO\, 64058\, United States
CATEGORIES:Wednesday Morning Prayer
END:VEVENT
BEGIN:VEVENT
DTSTART;TZID=America/Chicago:20230830T100000
DTEND;TZID=America/Chicago:20230830T110000
DTSTAMP:20260423T173816
CREATED:20221219T062109Z
LAST-MODIFIED:20221219T062109Z
UID:478-1693389600-1693393200@assembleyourselves.org
SUMMARY:Wednesday Morning Prayer 083023
DESCRIPTION:Join us as we pray together on Wednesday morning at 10am.
URL:https://assembleyourselves.org/event/wednesday-morning-prayer-083023/
LOCATION:Fellowship Hall\, 1706 N Jennings Rd\, Independence\, MO\, 64058\, United States
CATEGORIES:Wednesday Morning Prayer
END:VEVENT
BEGIN:VEVENT
DTSTART;TZID=America/Chicago:20230823T100000
DTEND;TZID=America/Chicago:20230823T110000
DTSTAMP:20260423T173816
CREATED:20221219T062034Z
LAST-MODIFIED:20221219T062034Z
UID:476-1692784800-1692788400@assembleyourselves.org
SUMMARY:Wednesday Morning Prayer 082323
DESCRIPTION:Join us as we pray together on Wednesday morning at 10am.
URL:https://assembleyourselves.org/event/wednesday-morning-prayer-082323/
LOCATION:Fellowship Hall\, 1706 N Jennings Rd\, Independence\, MO\, 64058\, United States
CATEGORIES:Wednesday Morning Prayer
END:VEVENT
BEGIN:VEVENT
DTSTART;TZID=America/Chicago:20230816T100000
DTEND;TZID=America/Chicago:20230816T110000
DTSTAMP:20260423T173816
CREATED:20221219T061921Z
LAST-MODIFIED:20221219T061921Z
UID:474-1692180000-1692183600@assembleyourselves.org
SUMMARY:Wednesday Morning Prayer 081623
DESCRIPTION:Join us as we pray together on Wednesday morning at 10am.
URL:https://assembleyourselves.org/event/wednesday-morning-prayer-081623/
LOCATION:Fellowship Hall\, 1706 N Jennings Rd\, Independence\, MO\, 64058\, United States
CATEGORIES:Wednesday Morning Prayer
END:VEVENT
BEGIN:VEVENT
DTSTART;TZID=America/Chicago:20230809T100000
DTEND;TZID=America/Chicago:20230809T110000
DTSTAMP:20260423T173816
CREATED:20221219T061719Z
LAST-MODIFIED:20221219T061719Z
UID:472-1691575200-1691578800@assembleyourselves.org
SUMMARY:Wednesday Morning Prayer 080923
DESCRIPTION:Join us as we pray together on Wednesday morning at 10am.
URL:https://assembleyourselves.org/event/wednesday-morning-prayer-080923/
LOCATION:Fellowship Hall\, 1706 N Jennings Rd\, Independence\, MO\, 64058\, United States
CATEGORIES:Wednesday Morning Prayer
END:VEVENT
BEGIN:VEVENT
DTSTART;TZID=America/Chicago:20230802T100000
DTEND;TZID=America/Chicago:20230802T110000
DTSTAMP:20260423T173816
CREATED:20221219T061526Z
LAST-MODIFIED:20221219T061526Z
UID:470-1690970400-1690974000@assembleyourselves.org
SUMMARY:Wednesday Morning Prayer 080223
DESCRIPTION:Join us as we pray together on Wednesday morning at 10am.
URL:https://assembleyourselves.org/event/wednesday-morning-prayer-080223/
LOCATION:Fellowship Hall\, 1706 N Jennings Rd\, Independence\, MO\, 64058\, United States
CATEGORIES:Wednesday Morning Prayer
END:VEVENT
BEGIN:VEVENT
DTSTART;TZID=America/Chicago:20230726T100000
DTEND;TZID=America/Chicago:20230726T110000
DTSTAMP:20260423T173816
CREATED:20221219T061356Z
LAST-MODIFIED:20221219T061356Z
UID:468-1690365600-1690369200@assembleyourselves.org
SUMMARY:Wednesday Morning Prayer 072623
DESCRIPTION:Join us as we pray together on Wednesday morning at 10am.
URL:https://assembleyourselves.org/event/wednesday-morning-prayer-072623/
LOCATION:Fellowship Hall\, 1706 N Jennings Rd\, Independence\, MO\, 64058\, United States
CATEGORIES:Wednesday Morning Prayer
END:VEVENT
BEGIN:VEVENT
DTSTART;TZID=America/Chicago:20230719T100000
DTEND;TZID=America/Chicago:20230719T110000
DTSTAMP:20260423T173816
CREATED:20221219T061249Z
LAST-MODIFIED:20221219T061249Z
UID:466-1689760800-1689764400@assembleyourselves.org
SUMMARY:Wednesday Morning Prayer 071923
DESCRIPTION:Join us as we pray together on Wednesday morning at 10am.
URL:https://assembleyourselves.org/event/wednesday-morning-prayer-071923/
LOCATION:Fellowship Hall\, 1706 N Jennings Rd\, Independence\, MO\, 64058\, United States
CATEGORIES:Wednesday Morning Prayer
END:VEVENT
BEGIN:VEVENT
DTSTART;TZID=America/Chicago:20230712T100000
DTEND;TZID=America/Chicago:20230712T110000
DTSTAMP:20260423T173816
CREATED:20221219T061216Z
LAST-MODIFIED:20221219T061216Z
UID:464-1689156000-1689159600@assembleyourselves.org
SUMMARY:Wednesday Morning Prayer 071223
DESCRIPTION:Join us as we pray together on Wednesday morning at 10am.
URL:https://assembleyourselves.org/event/wednesday-morning-prayer-071223/
LOCATION:Fellowship Hall\, 1706 N Jennings Rd\, Independence\, MO\, 64058\, United States
CATEGORIES:Wednesday Morning Prayer
END:VEVENT
BEGIN:VEVENT
DTSTART;TZID=America/Chicago:20230705T100000
DTEND;TZID=America/Chicago:20230705T110000
DTSTAMP:20260423T173816
CREATED:20221219T061131Z
LAST-MODIFIED:20221219T061131Z
UID:462-1688551200-1688554800@assembleyourselves.org
SUMMARY:Wednesday Morning Prayer 070523
DESCRIPTION:Join us as we pray together on Wednesday morning at 10am.
URL:https://assembleyourselves.org/event/wednesday-morning-prayer-070523/
LOCATION:Fellowship Hall\, 1706 N Jennings Rd\, Independence\, MO\, 64058\, United States
CATEGORIES:Wednesday Morning Prayer
END:VEVENT
BEGIN:VEVENT
DTSTART;TZID=America/Chicago:20230628T100000
DTEND;TZID=America/Chicago:20230628T110000
DTSTAMP:20260423T173816
CREATED:20221219T061050Z
LAST-MODIFIED:20221219T061050Z
UID:460-1687946400-1687950000@assembleyourselves.org
SUMMARY:Wednesday Morning Prayer 062823
DESCRIPTION:Join us as we pray together on Wednesday morning at 10am.
URL:https://assembleyourselves.org/event/wednesday-morning-prayer-062823/
LOCATION:Fellowship Hall\, 1706 N Jennings Rd\, Independence\, MO\, 64058\, United States
CATEGORIES:Wednesday Morning Prayer
END:VEVENT
BEGIN:VEVENT
DTSTART;TZID=America/Chicago:20230621T100000
DTEND;TZID=America/Chicago:20230621T110000
DTSTAMP:20260423T173816
CREATED:20221219T061013Z
LAST-MODIFIED:20221219T061013Z
UID:458-1687341600-1687345200@assembleyourselves.org
SUMMARY:Wednesday Morning Prayer 062123
DESCRIPTION:Join us as we pray together on Wednesday morning at 10am.
URL:https://assembleyourselves.org/event/wednesday-morning-prayer-062123/
LOCATION:Fellowship Hall\, 1706 N Jennings Rd\, Independence\, MO\, 64058\, United States
CATEGORIES:Wednesday Morning Prayer
END:VEVENT
BEGIN:VEVENT
DTSTART;TZID=America/Chicago:20230614T100000
DTEND;TZID=America/Chicago:20230614T110000
DTSTAMP:20260423T173816
CREATED:20221219T060934Z
LAST-MODIFIED:20221219T060934Z
UID:456-1686736800-1686740400@assembleyourselves.org
SUMMARY:Wednesday Morning Prayer 061423
DESCRIPTION:Join us as we pray together on Wednesday morning at 10am.
URL:https://assembleyourselves.org/event/wednesday-morning-prayer-061423/
LOCATION:Fellowship Hall\, 1706 N Jennings Rd\, Independence\, MO\, 64058\, United States
CATEGORIES:Wednesday Morning Prayer
END:VEVENT
BEGIN:VEVENT
DTSTART;TZID=America/Chicago:20230607T100000
DTEND;TZID=America/Chicago:20230607T110000
DTSTAMP:20260423T173816
CREATED:20221219T060855Z
LAST-MODIFIED:20221219T060855Z
UID:454-1686132000-1686135600@assembleyourselves.org
SUMMARY:Wednesday Morning Prayer 060723
DESCRIPTION:Join us as we pray together on Wednesday morning at 10am.
URL:https://assembleyourselves.org/event/wednesday-morning-prayer-060723/
LOCATION:Fellowship Hall\, 1706 N Jennings Rd\, Independence\, MO\, 64058\, United States
CATEGORIES:Wednesday Morning Prayer
END:VEVENT
END:VCALENDAR