BEGIN:VCALENDAR
VERSION:2.0
PRODID:-//assembleyourselves.org - ECPv6.15.20//NONSGML v1.0//EN
CALSCALE:GREGORIAN
METHOD:PUBLISH
X-WR-CALNAME:assembleyourselves.org
X-ORIGINAL-URL:https://assembleyourselves.org
X-WR-CALDESC:Events for assembleyourselves.org
REFRESH-INTERVAL;VALUE=DURATION:PT1H
X-Robots-Tag:noindex
X-PUBLISHED-TTL:PT1H
BEGIN:VTIMEZONE
TZID:America/Chicago
BEGIN:DAYLIGHT
TZOFFSETFROM:-0600
TZOFFSETTO:-0500
TZNAME:CDT
DTSTART:20220313T080000
END:DAYLIGHT
BEGIN:STANDARD
TZOFFSETFROM:-0500
TZOFFSETTO:-0600
TZNAME:CST
DTSTART:20221106T070000
END:STANDARD
BEGIN:DAYLIGHT
TZOFFSETFROM:-0600
TZOFFSETTO:-0500
TZNAME:CDT
DTSTART:20230312T080000
END:DAYLIGHT
BEGIN:STANDARD
TZOFFSETFROM:-0500
TZOFFSETTO:-0600
TZNAME:CST
DTSTART:20231105T070000
END:STANDARD
BEGIN:DAYLIGHT
TZOFFSETFROM:-0600
TZOFFSETTO:-0500
TZNAME:CDT
DTSTART:20240310T080000
END:DAYLIGHT
BEGIN:STANDARD
TZOFFSETFROM:-0500
TZOFFSETTO:-0600
TZNAME:CST
DTSTART:20241103T070000
END:STANDARD
END:VTIMEZONE
BEGIN:VEVENT
DTSTART;TZID=America/Chicago:20231004T100000
DTEND;TZID=America/Chicago:20231004T110000
DTSTAMP:20260425T195952
CREATED:20221219T062430Z
LAST-MODIFIED:20221219T062430Z
UID:488-1696413600-1696417200@assembleyourselves.org
SUMMARY:Wednesday Morning Prayer 100423
DESCRIPTION:Join us as we pray together on Wednesday morning at 10am.
URL:https://assembleyourselves.org/event/wednesday-morning-prayer-100423/
LOCATION:Fellowship Hall\, 1706 N Jennings Rd\, Independence\, MO\, 64058\, United States
CATEGORIES:Wednesday Morning Prayer
END:VEVENT
BEGIN:VEVENT
DTSTART;TZID=America/Chicago:20231011T100000
DTEND;TZID=America/Chicago:20231011T110000
DTSTAMP:20260425T195952
CREATED:20221219T062507Z
LAST-MODIFIED:20221219T062507Z
UID:490-1697018400-1697022000@assembleyourselves.org
SUMMARY:Wednesday Morning Prayer 101123
DESCRIPTION:Join us as we pray together on Wednesday morning at 10am.
URL:https://assembleyourselves.org/event/wednesday-morning-prayer-101123/
LOCATION:Fellowship Hall\, 1706 N Jennings Rd\, Independence\, MO\, 64058\, United States
CATEGORIES:Wednesday Morning Prayer
END:VEVENT
BEGIN:VEVENT
DTSTART;TZID=America/Chicago:20231018T100000
DTEND;TZID=America/Chicago:20231018T110000
DTSTAMP:20260425T195953
CREATED:20221219T062543Z
LAST-MODIFIED:20221219T062543Z
UID:492-1697623200-1697626800@assembleyourselves.org
SUMMARY:Wednesday Morning Prayer 101823
DESCRIPTION:Join us as we pray together on Wednesday morning at 10am.
URL:https://assembleyourselves.org/event/wednesday-morning-prayer-101823/
LOCATION:Fellowship Hall\, 1706 N Jennings Rd\, Independence\, MO\, 64058\, United States
CATEGORIES:Wednesday Morning Prayer
END:VEVENT
BEGIN:VEVENT
DTSTART;TZID=America/Chicago:20231025T100000
DTEND;TZID=America/Chicago:20231025T110000
DTSTAMP:20260425T195953
CREATED:20221219T062701Z
LAST-MODIFIED:20221219T062701Z
UID:494-1698228000-1698231600@assembleyourselves.org
SUMMARY:Wednesday Morning Prayer 102523
DESCRIPTION:Join us as we pray together on Wednesday morning at 10am.
URL:https://assembleyourselves.org/event/wednesday-morning-prayer-102523/
LOCATION:Fellowship Hall\, 1706 N Jennings Rd\, Independence\, MO\, 64058\, United States
CATEGORIES:Wednesday Morning Prayer
END:VEVENT
END:VCALENDAR