BEGIN:VCALENDAR
VERSION:2.0
PRODID:-//assembleyourselves.org - ECPv6.15.20//NONSGML v1.0//EN
CALSCALE:GREGORIAN
METHOD:PUBLISH
X-WR-CALNAME:assembleyourselves.org
X-ORIGINAL-URL:https://assembleyourselves.org
X-WR-CALDESC:Events for assembleyourselves.org
REFRESH-INTERVAL;VALUE=DURATION:PT1H
X-Robots-Tag:noindex
X-PUBLISHED-TTL:PT1H
BEGIN:VTIMEZONE
TZID:America/Chicago
BEGIN:DAYLIGHT
TZOFFSETFROM:-0600
TZOFFSETTO:-0500
TZNAME:CDT
DTSTART:20220313T080000
END:DAYLIGHT
BEGIN:STANDARD
TZOFFSETFROM:-0500
TZOFFSETTO:-0600
TZNAME:CST
DTSTART:20221106T070000
END:STANDARD
BEGIN:DAYLIGHT
TZOFFSETFROM:-0600
TZOFFSETTO:-0500
TZNAME:CDT
DTSTART:20230312T080000
END:DAYLIGHT
BEGIN:STANDARD
TZOFFSETFROM:-0500
TZOFFSETTO:-0600
TZNAME:CST
DTSTART:20231105T070000
END:STANDARD
BEGIN:DAYLIGHT
TZOFFSETFROM:-0600
TZOFFSETTO:-0500
TZNAME:CDT
DTSTART:20240310T080000
END:DAYLIGHT
BEGIN:STANDARD
TZOFFSETFROM:-0500
TZOFFSETTO:-0600
TZNAME:CST
DTSTART:20241103T070000
END:STANDARD
BEGIN:DAYLIGHT
TZOFFSETFROM:-0600
TZOFFSETTO:-0500
TZNAME:CDT
DTSTART:20250309T080000
END:DAYLIGHT
BEGIN:STANDARD
TZOFFSETFROM:-0500
TZOFFSETTO:-0600
TZNAME:CST
DTSTART:20251102T070000
END:STANDARD
END:VTIMEZONE
BEGIN:VEVENT
DTSTART;TZID=America/Chicago:20240721T094500
DTEND;TZID=America/Chicago:20240721T094500
DTSTAMP:20260423T173726
CREATED:20221219T054906Z
LAST-MODIFIED:20240716T184345Z
UID:410-1721555100-1721555100@assembleyourselves.org
SUMMARY:Sunday Morning Service
DESCRIPTION:Join us as we fellowship together on Sunday morning at 9:45am with refreshments immediately afterwards.
URL:https://assembleyourselves.org/event/sunday-morning-service/
LOCATION:Main Sanctuary\, 1706 N Jennings Rd\, Independence\, MO\, 64058\, United States
CATEGORIES:Sunday Morning Service
END:VEVENT
BEGIN:VEVENT
DTSTART;TZID=America/Chicago:20231224T094500
DTEND;TZID=America/Chicago:20231224T120000
DTSTAMP:20260423T173726
CREATED:20221219T054823Z
LAST-MODIFIED:20221219T054823Z
UID:408-1703411100-1703419200@assembleyourselves.org
SUMMARY:Sunday Morning Service 122423
DESCRIPTION:Join us as we fellowship together on Sunday morning at 9:45am with refreshments immediately afterwards.
URL:https://assembleyourselves.org/event/sunday-morning-service-122423/
LOCATION:Main Sanctuary\, 1706 N Jennings Rd\, Independence\, MO\, 64058\, United States
CATEGORIES:Sunday Morning Service
END:VEVENT
BEGIN:VEVENT
DTSTART;TZID=America/Chicago:20231217T094500
DTEND;TZID=America/Chicago:20231217T120000
DTSTAMP:20260423T173726
CREATED:20221219T054718Z
LAST-MODIFIED:20221219T054718Z
UID:406-1702806300-1702814400@assembleyourselves.org
SUMMARY:Sunday Morning Service 121723
DESCRIPTION:Join us as we fellowship together on Sunday morning at 9:45am with refreshments immediately afterwards.
URL:https://assembleyourselves.org/event/sunday-morning-service-121723/
LOCATION:Main Sanctuary\, 1706 N Jennings Rd\, Independence\, MO\, 64058\, United States
CATEGORIES:Sunday Morning Service
END:VEVENT
BEGIN:VEVENT
DTSTART;TZID=America/Chicago:20231210T094500
DTEND;TZID=America/Chicago:20231210T120000
DTSTAMP:20260423T173726
CREATED:20221219T054638Z
LAST-MODIFIED:20221219T054638Z
UID:404-1702201500-1702209600@assembleyourselves.org
SUMMARY:Sunday Morning Service 121023
DESCRIPTION:Join us as we fellowship together on Sunday morning at 9:45am with refreshments immediately afterwards.
URL:https://assembleyourselves.org/event/sunday-morning-service-121023/
LOCATION:Main Sanctuary\, 1706 N Jennings Rd\, Independence\, MO\, 64058\, United States
CATEGORIES:Sunday Morning Service
END:VEVENT
BEGIN:VEVENT
DTSTART;TZID=America/Chicago:20231203T094500
DTEND;TZID=America/Chicago:20231203T120000
DTSTAMP:20260423T173726
CREATED:20221219T054554Z
LAST-MODIFIED:20221219T054554Z
UID:402-1701596700-1701604800@assembleyourselves.org
SUMMARY:Sunday Morning Service 120323
DESCRIPTION:Join us as we fellowship together on Sunday morning at 9:45am with refreshments immediately afterwards.
URL:https://assembleyourselves.org/event/sunday-morning-service-120323/
LOCATION:Main Sanctuary\, 1706 N Jennings Rd\, Independence\, MO\, 64058\, United States
CATEGORIES:Sunday Morning Service
END:VEVENT
BEGIN:VEVENT
DTSTART;TZID=America/Chicago:20231126T094500
DTEND;TZID=America/Chicago:20231126T120000
DTSTAMP:20260423T173726
CREATED:20221219T054447Z
LAST-MODIFIED:20221219T054447Z
UID:400-1700991900-1701000000@assembleyourselves.org
SUMMARY:Sunday Morning Service 112623
DESCRIPTION:Join us as we fellowship together on Sunday morning at 9:45am with refreshments immediately afterwards.
URL:https://assembleyourselves.org/event/sunday-morning-service-112623/
LOCATION:Main Sanctuary\, 1706 N Jennings Rd\, Independence\, MO\, 64058\, United States
CATEGORIES:Sunday Morning Service
END:VEVENT
BEGIN:VEVENT
DTSTART;TZID=America/Chicago:20231119T094500
DTEND;TZID=America/Chicago:20231119T120000
DTSTAMP:20260423T173726
CREATED:20221219T054335Z
LAST-MODIFIED:20221219T054335Z
UID:398-1700387100-1700395200@assembleyourselves.org
SUMMARY:Sunday Morning Service 111923
DESCRIPTION:Join us as we fellowship together on Sunday morning at 9:45am with refreshments immediately afterwards.
URL:https://assembleyourselves.org/event/sunday-morning-service-111923/
LOCATION:Main Sanctuary\, 1706 N Jennings Rd\, Independence\, MO\, 64058\, United States
CATEGORIES:Sunday Morning Service
END:VEVENT
BEGIN:VEVENT
DTSTART;TZID=America/Chicago:20231112T094500
DTEND;TZID=America/Chicago:20231112T120000
DTSTAMP:20260423T173726
CREATED:20221219T054239Z
LAST-MODIFIED:20221219T054239Z
UID:396-1699782300-1699790400@assembleyourselves.org
SUMMARY:Sunday Morning Service 111223
DESCRIPTION:Join us as we fellowship together on Sunday morning at 9:45am with refreshments immediately afterwards.
URL:https://assembleyourselves.org/event/sunday-morning-service-111223/
LOCATION:Main Sanctuary\, 1706 N Jennings Rd\, Independence\, MO\, 64058\, United States
CATEGORIES:Sunday Morning Service
END:VEVENT
BEGIN:VEVENT
DTSTART;TZID=America/Chicago:20231105T094500
DTEND;TZID=America/Chicago:20231105T120000
DTSTAMP:20260423T173726
CREATED:20221219T054140Z
LAST-MODIFIED:20221219T054140Z
UID:394-1699177500-1699185600@assembleyourselves.org
SUMMARY:Sunday Morning Service 110523
DESCRIPTION:Join us as we fellowship together on Sunday morning at 9:45am with refreshments immediately afterwards.
URL:https://assembleyourselves.org/event/sunday-morning-service-110523/
LOCATION:Main Sanctuary\, 1706 N Jennings Rd\, Independence\, MO\, 64058\, United States
CATEGORIES:Sunday Morning Service
END:VEVENT
BEGIN:VEVENT
DTSTART;TZID=America/Chicago:20231029T094500
DTEND;TZID=America/Chicago:20231029T120000
DTSTAMP:20260423T173726
CREATED:20221219T054036Z
LAST-MODIFIED:20221219T054036Z
UID:392-1698572700-1698580800@assembleyourselves.org
SUMMARY:Sunday Morning Service 102923
DESCRIPTION:Join us as we fellowship together on Sunday morning at 9:45am with refreshments immediately afterwards.
URL:https://assembleyourselves.org/event/sunday-morning-service-102923/
LOCATION:Main Sanctuary\, 1706 N Jennings Rd\, Independence\, MO\, 64058\, United States
CATEGORIES:Sunday Morning Service
END:VEVENT
BEGIN:VEVENT
DTSTART;TZID=America/Chicago:20231022T094500
DTEND;TZID=America/Chicago:20231022T120000
DTSTAMP:20260423T173726
CREATED:20221219T053826Z
LAST-MODIFIED:20221219T053826Z
UID:390-1697967900-1697976000@assembleyourselves.org
SUMMARY:Sunday Morning Service 102223
DESCRIPTION:Join us as we fellowship together on Sunday morning at 9:45am with refreshments immediately afterwards.
URL:https://assembleyourselves.org/event/sunday-morning-service-102223/
LOCATION:Main Sanctuary\, 1706 N Jennings Rd\, Independence\, MO\, 64058\, United States
CATEGORIES:Sunday Morning Service
END:VEVENT
BEGIN:VEVENT
DTSTART;TZID=America/Chicago:20231015T094500
DTEND;TZID=America/Chicago:20231015T120000
DTSTAMP:20260423T173726
CREATED:20221219T053744Z
LAST-MODIFIED:20221219T053744Z
UID:388-1697363100-1697371200@assembleyourselves.org
SUMMARY:Sunday Morning Service 101523
DESCRIPTION:Join us as we fellowship together on Sunday morning at 9:45am with refreshments immediately afterwards.
URL:https://assembleyourselves.org/event/sunday-morning-service-101523/
LOCATION:Main Sanctuary\, 1706 N Jennings Rd\, Independence\, MO\, 64058\, United States
CATEGORIES:Sunday Morning Service
END:VEVENT
BEGIN:VEVENT
DTSTART;TZID=America/Chicago:20231008T094500
DTEND;TZID=America/Chicago:20231008T120000
DTSTAMP:20260423T173726
CREATED:20221219T053658Z
LAST-MODIFIED:20221219T053658Z
UID:386-1696758300-1696766400@assembleyourselves.org
SUMMARY:Sunday Morning Service 100823
DESCRIPTION:Join us as we fellowship together on Sunday morning at 9:45am with refreshments immediately afterwards.
URL:https://assembleyourselves.org/event/sunday-morning-service-100823/
LOCATION:Main Sanctuary\, 1706 N Jennings Rd\, Independence\, MO\, 64058\, United States
CATEGORIES:Sunday Morning Service
END:VEVENT
BEGIN:VEVENT
DTSTART;TZID=America/Chicago:20231001T094500
DTEND;TZID=America/Chicago:20231001T120000
DTSTAMP:20260423T173726
CREATED:20221219T053614Z
LAST-MODIFIED:20221219T053614Z
UID:384-1696153500-1696161600@assembleyourselves.org
SUMMARY:Sunday Morning Service 100123
DESCRIPTION:Join us as we fellowship together on Sunday morning at 9:45am with refreshments immediately afterwards.
URL:https://assembleyourselves.org/event/sunday-morning-service-100123/
LOCATION:Main Sanctuary\, 1706 N Jennings Rd\, Independence\, MO\, 64058\, United States
CATEGORIES:Sunday Morning Service
END:VEVENT
BEGIN:VEVENT
DTSTART;TZID=America/Chicago:20230924T094500
DTEND;TZID=America/Chicago:20230924T120000
DTSTAMP:20260423T173726
CREATED:20221219T053514Z
LAST-MODIFIED:20221219T053514Z
UID:382-1695548700-1695556800@assembleyourselves.org
SUMMARY:Sunday Morning Service 092423
DESCRIPTION:Join us as we fellowship together on Sunday morning at 9:45am with refreshments immediately afterwards.
URL:https://assembleyourselves.org/event/sunday-morning-service-092423/
LOCATION:Main Sanctuary\, 1706 N Jennings Rd\, Independence\, MO\, 64058\, United States
CATEGORIES:Sunday Morning Service
END:VEVENT
BEGIN:VEVENT
DTSTART;TZID=America/Chicago:20230917T094500
DTEND;TZID=America/Chicago:20230917T120000
DTSTAMP:20260423T173726
CREATED:20221219T053433Z
LAST-MODIFIED:20221219T053433Z
UID:380-1694943900-1694952000@assembleyourselves.org
SUMMARY:Sunday Morning Service 091723
DESCRIPTION:Join us as we fellowship together on Sunday morning at 9:45am with refreshments immediately afterwards.
URL:https://assembleyourselves.org/event/sunday-morning-service-091723-2/
LOCATION:Main Sanctuary\, 1706 N Jennings Rd\, Independence\, MO\, 64058\, United States
CATEGORIES:Sunday Morning Service
END:VEVENT
BEGIN:VEVENT
DTSTART;TZID=America/Chicago:20230917T094500
DTEND;TZID=America/Chicago:20230917T120000
DTSTAMP:20260423T173726
CREATED:20221219T053330Z
LAST-MODIFIED:20221219T053330Z
UID:378-1694943900-1694952000@assembleyourselves.org
SUMMARY:Sunday Morning Service 091723
DESCRIPTION:Join us as we fellowship together on Sunday morning at 9:45am with refreshments immediately afterwards.
URL:https://assembleyourselves.org/event/sunday-morning-service-091723/
LOCATION:Main Sanctuary\, 1706 N Jennings Rd\, Independence\, MO\, 64058\, United States
CATEGORIES:Sunday Morning Service
END:VEVENT
BEGIN:VEVENT
DTSTART;TZID=America/Chicago:20230910T094500
DTEND;TZID=America/Chicago:20230910T120000
DTSTAMP:20260423T173726
CREATED:20221219T053246Z
LAST-MODIFIED:20221219T053246Z
UID:376-1694339100-1694347200@assembleyourselves.org
SUMMARY:Sunday Morning Service 091023
DESCRIPTION:Join us as we fellowship together on Sunday morning at 9:45am with refreshments immediately afterwards.
URL:https://assembleyourselves.org/event/sunday-morning-service-091023/
LOCATION:Main Sanctuary\, 1706 N Jennings Rd\, Independence\, MO\, 64058\, United States
CATEGORIES:Sunday Morning Service
END:VEVENT
BEGIN:VEVENT
DTSTART;TZID=America/Chicago:20230903T094500
DTEND;TZID=America/Chicago:20230903T120000
DTSTAMP:20260423T173726
CREATED:20221219T053203Z
LAST-MODIFIED:20221219T053203Z
UID:374-1693734300-1693742400@assembleyourselves.org
SUMMARY:Sunday Morning Service 090323
DESCRIPTION:Join us as we fellowship together on Sunday morning at 9:45am with refreshments immediately afterwards.
URL:https://assembleyourselves.org/event/sunday-morning-service-090323/
LOCATION:Main Sanctuary\, 1706 N Jennings Rd\, Independence\, MO\, 64058\, United States
CATEGORIES:Sunday Morning Service
END:VEVENT
BEGIN:VEVENT
DTSTART;TZID=America/Chicago:20230827T094500
DTEND;TZID=America/Chicago:20230827T120000
DTSTAMP:20260423T173726
CREATED:20221219T053112Z
LAST-MODIFIED:20221219T053112Z
UID:372-1693129500-1693137600@assembleyourselves.org
SUMMARY:Sunday Morning Service 082723
DESCRIPTION:Join us as we fellowship together on Sunday morning at 9:45am with refreshments immediately afterwards.
URL:https://assembleyourselves.org/event/sunday-morning-service-082723/
LOCATION:Main Sanctuary\, 1706 N Jennings Rd\, Independence\, MO\, 64058\, United States
CATEGORIES:Sunday Morning Service
END:VEVENT
BEGIN:VEVENT
DTSTART;TZID=America/Chicago:20230820T094500
DTEND;TZID=America/Chicago:20230820T120000
DTSTAMP:20260423T173726
CREATED:20221219T053012Z
LAST-MODIFIED:20221219T053012Z
UID:370-1692524700-1692532800@assembleyourselves.org
SUMMARY:Sunday Morning Service 082023
DESCRIPTION:Join us as we fellowship together on Sunday morning at 9:45am with refreshments immediately afterwards.
URL:https://assembleyourselves.org/event/sunday-morning-service-082023/
LOCATION:Main Sanctuary\, 1706 N Jennings Rd\, Independence\, MO\, 64058\, United States
CATEGORIES:Sunday Morning Service
END:VEVENT
BEGIN:VEVENT
DTSTART;TZID=America/Chicago:20230813T094500
DTEND;TZID=America/Chicago:20230813T120000
DTSTAMP:20260423T173726
CREATED:20221219T052928Z
LAST-MODIFIED:20221219T052928Z
UID:368-1691919900-1691928000@assembleyourselves.org
SUMMARY:Sunday Morning Service 081323
DESCRIPTION:Join us as we fellowship together on Sunday morning at 9:45am with refreshments immediately afterwards.
URL:https://assembleyourselves.org/event/sunday-morning-service-081323/
LOCATION:Main Sanctuary\, 1706 N Jennings Rd\, Independence\, MO\, 64058\, United States
CATEGORIES:Sunday Morning Service
END:VEVENT
BEGIN:VEVENT
DTSTART;TZID=America/Chicago:20230806T094500
DTEND;TZID=America/Chicago:20230806T120000
DTSTAMP:20260423T173726
CREATED:20221219T052836Z
LAST-MODIFIED:20221219T052836Z
UID:366-1691315100-1691323200@assembleyourselves.org
SUMMARY:Sunday Morning Service 080623
DESCRIPTION:Join us as we fellowship together on Sunday morning at 9:45am with refreshments immediately afterwards.
URL:https://assembleyourselves.org/event/sunday-morning-service-080623/
LOCATION:Main Sanctuary\, 1706 N Jennings Rd\, Independence\, MO\, 64058\, United States
CATEGORIES:Sunday Morning Service
END:VEVENT
BEGIN:VEVENT
DTSTART;TZID=America/Chicago:20230730T094500
DTEND;TZID=America/Chicago:20230730T120000
DTSTAMP:20260423T173726
CREATED:20221219T052739Z
LAST-MODIFIED:20221219T052739Z
UID:364-1690710300-1690718400@assembleyourselves.org
SUMMARY:Sunday Morning Service 073023
DESCRIPTION:Join us as we fellowship together on Sunday morning at 9:45am with refreshments immediately afterwards.
URL:https://assembleyourselves.org/event/sunday-morning-service-073023/
LOCATION:Main Sanctuary\, 1706 N Jennings Rd\, Independence\, MO\, 64058\, United States
CATEGORIES:Sunday Morning Service
END:VEVENT
BEGIN:VEVENT
DTSTART;TZID=America/Chicago:20230723T094500
DTEND;TZID=America/Chicago:20230723T120000
DTSTAMP:20260423T173726
CREATED:20221219T052648Z
LAST-MODIFIED:20221219T052648Z
UID:362-1690105500-1690113600@assembleyourselves.org
SUMMARY:Sunday Morning Service 072323
DESCRIPTION:Join us as we fellowship together on Sunday morning at 9:45am with refreshments immediately afterwards.
URL:https://assembleyourselves.org/event/sunday-morning-service-072323/
LOCATION:Main Sanctuary\, 1706 N Jennings Rd\, Independence\, MO\, 64058\, United States
CATEGORIES:Sunday Morning Service
END:VEVENT
BEGIN:VEVENT
DTSTART;TZID=America/Chicago:20230716T094500
DTEND;TZID=America/Chicago:20230716T120000
DTSTAMP:20260423T173726
CREATED:20221219T052558Z
LAST-MODIFIED:20221219T052558Z
UID:360-1689500700-1689508800@assembleyourselves.org
SUMMARY:Sunday Morning Service 071623
DESCRIPTION:Join us as we fellowship together on Sunday morning at 9:45am with refreshments immediately afterwards.
URL:https://assembleyourselves.org/event/sunday-morning-service-071623/
LOCATION:Main Sanctuary\, 1706 N Jennings Rd\, Independence\, MO\, 64058\, United States
CATEGORIES:Sunday Morning Service
END:VEVENT
BEGIN:VEVENT
DTSTART;TZID=America/Chicago:20230709T094500
DTEND;TZID=America/Chicago:20230709T120000
DTSTAMP:20260423T173726
CREATED:20221219T052458Z
LAST-MODIFIED:20221219T052458Z
UID:358-1688895900-1688904000@assembleyourselves.org
SUMMARY:Sunday Morning Service 070923
DESCRIPTION:Join us as we fellowship together on Sunday morning at 9:45am with refreshments immediately afterwards.
URL:https://assembleyourselves.org/event/sunday-morning-service-070923/
LOCATION:Main Sanctuary\, 1706 N Jennings Rd\, Independence\, MO\, 64058\, United States
CATEGORIES:Sunday Morning Service
END:VEVENT
BEGIN:VEVENT
DTSTART;TZID=America/Chicago:20230702T094500
DTEND;TZID=America/Chicago:20230702T120000
DTSTAMP:20260423T173726
CREATED:20221219T052410Z
LAST-MODIFIED:20221219T052410Z
UID:356-1688291100-1688299200@assembleyourselves.org
SUMMARY:Sunday Morning Service 070223
DESCRIPTION:Join us as we fellowship together on Sunday morning at 9:45am with refreshments immediately afterwards.
URL:https://assembleyourselves.org/event/sunday-morning-service-070223/
LOCATION:Main Sanctuary\, 1706 N Jennings Rd\, Independence\, MO\, 64058\, United States
CATEGORIES:Sunday Morning Service
END:VEVENT
BEGIN:VEVENT
DTSTART;TZID=America/Chicago:20230625T094500
DTEND;TZID=America/Chicago:20230625T120000
DTSTAMP:20260423T173726
CREATED:20221219T052317Z
LAST-MODIFIED:20221219T052317Z
UID:354-1687686300-1687694400@assembleyourselves.org
SUMMARY:Sunday Morning Service 062523
DESCRIPTION:Join us as we fellowship together on Sunday morning at 9:45am with refreshments immediately afterwards.
URL:https://assembleyourselves.org/event/sunday-morning-service-062523/
LOCATION:Main Sanctuary\, 1706 N Jennings Rd\, Independence\, MO\, 64058\, United States
CATEGORIES:Sunday Morning Service
END:VEVENT
BEGIN:VEVENT
DTSTART;TZID=America/Chicago:20230618T094500
DTEND;TZID=America/Chicago:20230618T120000
DTSTAMP:20260423T173726
CREATED:20221219T052227Z
LAST-MODIFIED:20221219T052227Z
UID:352-1687081500-1687089600@assembleyourselves.org
SUMMARY:Sunday Morning Service 061823
DESCRIPTION:Join us as we fellowship together on Sunday morning at 9:45am with refreshments immediately afterwards.
URL:https://assembleyourselves.org/event/sunday-morning-service-061823/
LOCATION:Main Sanctuary\, 1706 N Jennings Rd\, Independence\, MO\, 64058\, United States
CATEGORIES:Sunday Morning Service
END:VEVENT
END:VCALENDAR