BEGIN:VCALENDAR
VERSION:2.0
PRODID:-//assembleyourselves.org - ECPv6.15.20//NONSGML v1.0//EN
CALSCALE:GREGORIAN
METHOD:PUBLISH
X-ORIGINAL-URL:https://assembleyourselves.org
X-WR-CALDESC:Events for assembleyourselves.org
REFRESH-INTERVAL;VALUE=DURATION:PT1H
X-Robots-Tag:noindex
X-PUBLISHED-TTL:PT1H
BEGIN:VTIMEZONE
TZID:America/Chicago
BEGIN:DAYLIGHT
TZOFFSETFROM:-0600
TZOFFSETTO:-0500
TZNAME:CDT
DTSTART:20220313T080000
END:DAYLIGHT
BEGIN:STANDARD
TZOFFSETFROM:-0500
TZOFFSETTO:-0600
TZNAME:CST
DTSTART:20221106T070000
END:STANDARD
BEGIN:DAYLIGHT
TZOFFSETFROM:-0600
TZOFFSETTO:-0500
TZNAME:CDT
DTSTART:20230312T080000
END:DAYLIGHT
BEGIN:STANDARD
TZOFFSETFROM:-0500
TZOFFSETTO:-0600
TZNAME:CST
DTSTART:20231105T070000
END:STANDARD
BEGIN:DAYLIGHT
TZOFFSETFROM:-0600
TZOFFSETTO:-0500
TZNAME:CDT
DTSTART:20240310T080000
END:DAYLIGHT
BEGIN:STANDARD
TZOFFSETFROM:-0500
TZOFFSETTO:-0600
TZNAME:CST
DTSTART:20241103T070000
END:STANDARD
END:VTIMEZONE
BEGIN:VEVENT
DTSTART;TZID=America/Chicago:20231213T100000
DTEND;TZID=America/Chicago:20231213T110000
DTSTAMP:20260425T105546
CREATED:20221219T063218Z
LAST-MODIFIED:20221219T063218Z
UID:508-1702461600-1702465200@assembleyourselves.org
SUMMARY:Wednesday Morning Prayer 121323
DESCRIPTION:Join us as we pray together on Wednesday morning at 10am.
URL:https://assembleyourselves.org/event/wednesday-morning-prayer-121323/
LOCATION:Fellowship Hall\, 1706 N Jennings Rd\, Independence\, MO\, 64058\, United States
CATEGORIES:Wednesday Morning Prayer
END:VEVENT
BEGIN:VEVENT
DTSTART;TZID=America/Chicago:20231213T183000
DTEND;TZID=America/Chicago:20231213T200000
DTSTAMP:20260425T105546
CREATED:20221219T072707Z
LAST-MODIFIED:20221219T072707Z
UID:620-1702492200-1702497600@assembleyourselves.org
SUMMARY:Wednesday Night Bible Study 121323
DESCRIPTION:Join us as we study God’s Word together on Wednesday evening at 6:30pm.
URL:https://assembleyourselves.org/event/wednesday-night-bible-study-121323/
LOCATION:Fellowship Hall\, 1706 N Jennings Rd\, Independence\, MO\, 64058\, United States
CATEGORIES:Wednesday Night Bible Study
END:VEVENT
END:VCALENDAR